BEGIN_USGS_DOQ_HEADER *
QUADRANGLE_NAME "SPHINX LAKES" 3.45 or 7.5-min. name*
QUADRANT SE quadrant indicator if cell size = 3.75-minutes*
WEST_LONGITUDE -118 33 45.000 signed deg min sec SDDD MM SS.SSS*
EAST_LONGITUDE -118 30 0.000 signed deg min sec SDDD MM SS.SSS*
NORTH_LATITUDE 36 41 15.000 signed deg min sec SDDD MM SS.SSS*
SOUTH_LATITUDE 36 37 30.000 signed deg min sec SDDD MM SS.SSS*
PRODUCTION_DATE 1998 2 26 yyyy mm dd*
RASTER_ORDER LEFT_RIGHT/TOP_BOTTOM video display order*
BAND_ORGANIZATION BIP single file or BSQ, or BIL or BIP*
BAND_CONTENT RED black&white or red green blue*
BAND_CONTENT GREEN black&white or red green blue*
BAND_CONTENT BLUE black&white or red green blue*
BITS_PER_PIXEL 8 radiometric resolution*
SAMPLES_AND_LINES 6384 7632 number of columns and rows*
HORIZONTAL_DATUM NAD83 primary horizontal datum*
HORIZONTAL_COORDINATE_SYSTEM UTM *
COORDINATE_ZONE 11 coordinate system zone number*
HORIZONTAL_UNITS METERS coordinate system units*
HORIZONTAL_RESOLUTION 1.00 pixel horiz. ground sample distance*
SECONDARY_HORIZONTAL_DATUM NAD27 secondary horizontal datum*
XY_ORIGIN 359905.000 4061645.000 coord. of upper left pixel pri. datum*
SECONDARY_XY_ORIGIN 359984.856 4061448.055 coord upper left pixel sec datum*
NATION US nation code*
STATE CA state fip code*
NW_QUAD_CORNER_XY 360403.027 4061344.027 XY coords. of pri. NW quad corner*
NE_QUAD_CORNER_XY 365987.282 4061254.842 XY coords. of pri. NE quad corner*
SE_QUAD_CORNER_XY 365878.886 4054321.227 XY coords. of pri. SE quad corner*
SW_QUAD_CORNER_XY 360290.112 4054410.354 XY coords. of pri. SW quad corner*
SECONDARY_NW_QUAD_XY 360399.653 4061141.698 XY coords. - sec. NW quad cor.*
SECONDARY_NE_QUAD_XY 365984.043 4061052.511 XY coords. - sec. NE quad cor.*
SECONDARY_SE_QUAD_XY 365875.650 4054119.063 XY coords. - sec. SE quad cor.*
SECONDARY_SW_QUAD_XY 360286.740 4054208.192 XY coords. - sec. SW quad cor.*
RMSE_XY 2.20 doq horiz. accuracy*
IMAGE_SOURCE "COLOR INFRA-RED FILM" b&w, cir, natural color, other*
SOURCE_IMAGE_ID "NAPP 498 032" source image id*
SOURCE_IMAGE_DATE 1988 8 8 source image date as yyyy mm dd*
SOURCE_DEM_DATE 1998 2 26 source dem date yyyy mm dd*
AGENCY "WESTERN MAPPING CENTER (WMC)" oversight agency*
PRODUCER "SCIENCE APPLICATIONS INTERNATIONAL" *
PRODUCTION_SYSTEM "GIS/MAGIC" production system*
STANDARD_VERSION 1996 12 version of DOQ standard*
METADATA_DATE 1998 5 29 date created or changed, yyyy mm dd*
DATA_FILE_SIZE 146187216 data set size in bytes*
BYTE_COUNT 19152 header byte count* * * * * * * * * * * * * * * * * * * * * * * * * * * * * * * * * * * * * * * * * * * * * * * * * * * * * * * * * * * * * * * * * * * * * * * * * * * * * * * * * * * * * * * * * * * * * * * * * * * * * * * * * * * * * * * * * * * * * * * * * * * * * * * * * * * * * * * * * * * * * * * * * * * * * * * * * * * * * * * * * * * * * * * * * * * * * * * * * * * * * * * * * * * * * * * * * * *
END_USGS_HEADER *
