BEGIN_USGS_DOQ_HEADER *
QUADRANGLE_NAME "INDEPENDENCE" 3.45 or 7.5-min. name*
QUADRANT NE quadrant indicator if cell size = 3.75-minutes*
WEST_LONGITUDE -118 11 15.000 signed deg min sec SDDD MM SS.SSS*
EAST_LONGITUDE -118 7 30.000 signed deg min sec SDDD MM SS.SSS*
NORTH_LATITUDE 36 52 30.000 signed deg min sec SDDD MM SS.SSS*
SOUTH_LATITUDE 36 48 45.000 signed deg min sec SDDD MM SS.SSS*
PRODUCTION_DATE 1998 2 27 yyyy mm dd*
RASTER_ORDER LEFT_RIGHT/TOP_BOTTOM video display order*
BAND_ORGANIZATION BIP single file or BSQ, or BIL or BIP*
BAND_CONTENT RED black&white or red green blue*
BAND_CONTENT GREEN black&white or red green blue*
BAND_CONTENT BLUE black&white or red green blue*
BITS_PER_PIXEL 8 radiometric resolution*
SAMPLES_AND_LINES 6342 7611 number of columns and rows*
HORIZONTAL_DATUM NAD83 primary horizontal datum*
HORIZONTAL_COORDINATE_SYSTEM UTM *
COORDINATE_ZONE 11 coordinate system zone number*
HORIZONTAL_UNITS METERS coordinate system units*
HORIZONTAL_RESOLUTION 1.00 pixel horiz. ground sample distance*
SECONDARY_HORIZONTAL_DATUM NAD27 secondary horizontal datum*
XY_ORIGIN 393696.000 4081965.000 coord. of upper left pixel pri. datum*
SECONDARY_XY_ORIGIN 393776.288 4081768.595 coord upper left pixel sec datum*
NATION US nation code*
STATE CA state fip code*
NW_QUAD_CORNER_XY 394166.072 4081664.040 XY coords. of pri. NW quad corner*
NE_QUAD_CORNER_XY 399736.486 4081596.575 XY coords. of pri. NE quad corner*
SE_QUAD_CORNER_XY 399654.842 4074663.050 XY coords. of pri. SE quad corner*
SW_QUAD_CORNER_XY 394079.890 4074730.472 XY coords. of pri. SW quad corner*
SECONDARY_NW_QUAD_XY 394163.501 4081461.203 XY coords. - sec. NW quad cor.*
SECONDARY_NE_QUAD_XY 399734.051 4081393.737 XY coords. - sec. NE quad cor.*
SECONDARY_SE_QUAD_XY 399652.409 4074460.377 XY coords. - sec. SE quad cor.*
SECONDARY_SW_QUAD_XY 394077.321 4074527.800 XY coords. - sec. SW quad cor.*
RMSE_XY 1.40 doq horiz. accuracy*
IMAGE_SOURCE "COLOR INFRA-RED FILM" b&w, cir, natural color, other*
SOURCE_IMAGE_ID "NAPP 482 040" source image id*
SOURCE_IMAGE_DATE 1987 7 5 source image date as yyyy mm dd*
SOURCE_DEM_DATE 1998 2 27 source dem date yyyy mm dd*
AGENCY "WESTERN MAPPING CENTER (WMC)" oversight agency*
PRODUCER "SCIENCE APPLICATIONS INTERNATIONAL" *
PRODUCTION_SYSTEM "GIS/MAGIC" production system*
STANDARD_VERSION 1996 12 version of DOQ standard*
METADATA_DATE 1998 5 15 date created or changed, yyyy mm dd*
DATA_FILE_SIZE 144825912 data set size in bytes*
BYTE_COUNT 19026 header byte count* * * * * * * * * * * * * * * * * * * * * * * * * * * * * * * * * * * * * * * * * * * * * * * * * * * * * * * * * * * * * * * * * * * * * * * * * * * * * * * * * * * * * * * * * * * * * * * * * * * * * * * * * * * * * * * * * * * * * * * * * * * * * * * * * * * * * * * * * * * * * * * * * * * * * * * * * * * * * * * * * * * * * * * * * * * * * * * * * * * * * * * * * * * * * * * * *
END_USGS_HEADER *
