BEGIN_USGS_DOQ_HEADER *
QUADRANGLE_NAME "BLACKROCK" 3.45 or 7.5-min. name*
QUADRANT NW quadrant indicator if cell size = 3.75-minutes*
WEST_LONGITUDE -118 15 0.000 signed deg min sec SDDD MM SS.SSS*
EAST_LONGITUDE -118 11 15.000 signed deg min sec SDDD MM SS.SSS*
NORTH_LATITUDE 37 0 0.000 signed deg min sec SDDD MM SS.SSS*
SOUTH_LATITUDE 36 56 15.000 signed deg min sec SDDD MM SS.SSS*
PRODUCTION_DATE 1998 4 15 yyyy mm dd*
RASTER_ORDER LEFT_RIGHT/TOP_BOTTOM video display order*
BAND_ORGANIZATION BIP single file or BSQ, or BIL or BIP*
BAND_CONTENT RED black&white or red green blue*
BAND_CONTENT GREEN black&white or red green blue*
BAND_CONTENT BLUE black&white or red green blue*
BITS_PER_PIXEL 8 radiometric resolution*
SAMPLES_AND_LINES 6338 7614 number of columns and rows*
HORIZONTAL_DATUM NAD83 primary horizontal datum*
HORIZONTAL_COORDINATE_SYSTEM UTM *
COORDINATE_ZONE 11 coordinate system zone number*
HORIZONTAL_UNITS METERS coordinate system units*
HORIZONTAL_RESOLUTION 1.00 pixel horiz. ground sample distance*
SECONDARY_HORIZONTAL_DATUM NAD27 secondary horizontal datum*
XY_ORIGIN 388302.000 4095903.000 coord. of upper left pixel pri. datum*
SECONDARY_XY_ORIGIN 388382.350 4095706.030 coord upper left pixel sec datum*
NATION US nation code*
STATE CA state fip code*
NW_QUAD_CORNER_XY 388777.460 4095602.590 XY coords. of pri. NW quad corner*
NE_QUAD_CORNER_XY 394338.810 4095531.390 XY coords. of pri. NE quad corner*
SE_QUAD_CORNER_XY 394252.380 4088597.680 XY coords. of pri. SE quad corner*
SW_QUAD_CORNER_XY 388686.470 4088668.840 XY coords. of pri. SW quad corner*
SECONDARY_NW_QUAD_XY 388774.750 4095399.430 XY coords. - sec. NW quad cor.*
SECONDARY_NE_QUAD_XY 394336.240 4095328.220 XY coords. - sec. NE quad cor.*
SECONDARY_SE_QUAD_XY 394249.810 4088394.680 XY coords. - sec. SE quad cor.*
SECONDARY_SW_QUAD_XY 388683.770 4088465.840 XY coords. - sec. SW quad cor.*
RMSE_XY 3.30 doq horiz. accuracy*
IMAGE_SOURCE "COLOR INFRA-RED FILM" b&w, cir, natural color, other*
SOURCE_IMAGE_ID "NAPP 481 179" source image id*
SOURCE_IMAGE_DATE 1987 7 5 source image date as yyyy mm dd*
IMAGE_SOURCE "COLOR INFRA-RED FILM" b&w, cir, natural color, other*
SOURCE_IMAGE_ID "NAPP 481 178" source image id*
SOURCE_IMAGE_DATE 1987 7 5 source image date as yyyy mm dd*
IMAGE_SOURCE "COLOR INFRA-RED FILM" b&w, cir, natural color, other*
SOURCE_IMAGE_ID "NAPP 482 036" source image id*
SOURCE_IMAGE_DATE 1987 7 5 source image date as yyyy mm dd*
SOURCE_DEM_DATE 1998 4 15 source dem date yyyy mm dd*
AGENCY "WESTERN MAPPING CENTER (WMC)" oversight agency*
PRODUCER "SCIENCE APPLICATIONS INTERNATIONAL" *
PRODUCTION_SYSTEM "GIS/MAGIC" production system*
STANDARD_VERSION 1996 12 version of DOQ standard*
METADATA_DATE 1998 6 17 date created or changed, yyyy mm dd*
DATA_FILE_SIZE 144791610 data set size in bytes*
BYTE_COUNT 19014 header byte count* * * * * * * * * * * * * * * * * * * * * * * * * * * * * * * * * * * * * * * * * * * * * * * * * * * * * * * * * * * * * * * * * * * * * * * * * * * * * * * * * * * * * * * * * * * * * * * * * * * * * * * * * * * * * * * * * * * * * * * * * * * * * * * * * * * * * * * * * * * * * * * * * * * * * * * * * * * * * * * * * * * * * * * * * * * * * * * * * * * * * * * * * * *
END_USGS_HEADER *
