BEGIN_USGS_DOQ_HEADER *
QUADRANGLE_NAME "MOUNT PINCHOT" 3.45 or 7.5-min. name*
QUADRANT SW quadrant indicator if cell size = 3.75-minutes*
WEST_LONGITUDE -118 30 0.000 signed deg min sec SDDD MM SS.SSS*
EAST_LONGITUDE -118 26 15.000 signed deg min sec SDDD MM SS.SSS*
NORTH_LATITUDE 36 56 15.000 signed deg min sec SDDD MM SS.SSS*
SOUTH_LATITUDE 36 52 30.000 signed deg min sec SDDD MM SS.SSS*
PRODUCTION_DATE 1998 4 15 yyyy mm dd*
RASTER_ORDER LEFT_RIGHT/TOP_BOTTOM video display order*
BAND_ORGANIZATION BIP single file or BSQ, or BIL or BIP*
BAND_CONTENT RED black&white or red green blue*
BAND_CONTENT GREEN black&white or red green blue*
BAND_CONTENT BLUE black&white or red green blue*
BITS_PER_PIXEL 8 radiometric resolution*
SAMPLES_AND_LINES 6361 7628 number of columns and rows*
HORIZONTAL_DATUM NAD83 primary horizontal datum*
HORIZONTAL_COORDINATE_SYSTEM UTM *
COORDINATE_ZONE 11 coordinate system zone number*
HORIZONTAL_UNITS METERS coordinate system units*
HORIZONTAL_RESOLUTION 1.00 pixel horiz. ground sample distance*
SECONDARY_HORIZONTAL_DATUM NAD27 secondary horizontal datum*
XY_ORIGIN 365929.000 4089290.000 coord. of upper left pixel pri. datum*
SECONDARY_XY_ORIGIN 366008.980 4089092.790 coord upper left pixel sec datum*
NATION US nation code*
STATE CA state fip code*
NW_QUAD_CORNER_XY 366422.460 4088989.980 XY coords. of pri. NW quad corner*
NE_QUAD_CORNER_XY 371988.530 4088904.220 XY coords. of pri. NE quad corner*
SE_QUAD_CORNER_XY 371884.040 4081970.390 XY coords. of pri. SE quad corner*
SW_QUAD_CORNER_XY 366313.430 4082056.090 XY coords. of pri. SW quad corner*
SECONDARY_NW_QUAD_XY 366419.210 4088786.990 XY coords. - sec. NW quad cor.*
SECONDARY_NE_QUAD_XY 371985.410 4088701.230 XY coords. - sec. NE quad cor.*
SECONDARY_SE_QUAD_XY 371880.930 4081767.560 XY coords. - sec. SE quad cor.*
SECONDARY_SW_QUAD_XY 366310.180 4081853.270 XY coords. - sec. SW quad cor.*
RMSE_XY 2.90 doq horiz. accuracy*
IMAGE_SOURCE "COLOR INFRA-RED FILM" b&w, cir, natural color, other*
SOURCE_IMAGE_ID "NAPP 478 062" source image id*
SOURCE_IMAGE_DATE 1987 7 3 source image date as yyyy mm dd*
IMAGE_SOURCE "COLOR INFRA-RED FILM" b&w, cir, natural color, other*
SOURCE_IMAGE_ID "NAPP 478 063" source image id*
SOURCE_IMAGE_DATE 1987 7 3 source image date as yyyy mm dd*
IMAGE_SOURCE "COLOR INFRA-RED FILM" b&w, cir, natural color, other*
SOURCE_IMAGE_ID "NAPP 478 061" source image id*
SOURCE_IMAGE_DATE 1987 7 3 source image date as yyyy mm dd*
IMAGE_SOURCE "COLOR INFRA-RED FILM" b&w, cir, natural color, other*
SOURCE_IMAGE_ID "NAPP 478 039" source image id*
SOURCE_IMAGE_DATE 1987 7 3 source image date as yyyy mm dd*
SOURCE_DEM_DATE 1998 4 15 source dem date yyyy mm dd*
AGENCY "WESTERN MAPPING CENTER (WMC)" oversight agency*
PRODUCER "SCIENCE APPLICATIONS INTERNATIONAL" *
PRODUCTION_SYSTEM "GIS/MAGIC" production system*
STANDARD_VERSION 1996 12 version of DOQ standard*
METADATA_DATE 1998 6 16 date created or changed, yyyy mm dd*
DATA_FILE_SIZE 145584207 data set size in bytes*
BYTE_COUNT 19083 header byte count* * * * * * * * * * * * * * * * * * * * * * * * * * * * * * * * * * * * * * * * * * * * * * * * * * * * * * * * * * * * * * * * * * * * * * * * * * * * * * * * * * * * * * * * * * * * * * * * * * * * * * * * * * * * * * * * * * * * * * * * * * * * * * * * * * * * * * * * * * * * * * * * * * * * * * * * * * * * * * * * * * * * * * * * * * * * * * * * * * * * * * * * *
END_USGS_HEADER *
