BEGIN_USGS_DOQ_HEADER *
QUADRANGLE_NAME "CRAG PEAK" 3.45 or 7.5-min. name*
QUADRANT SE quadrant indicator if cell size = 3.75-minutes*
WEST_LONGITUDE -118 11 15.000 signed deg min sec SDDD MM SS.SSS*
EAST_LONGITUDE -118 7 30.000 signed deg min sec SDDD MM SS.SSS*
NORTH_LATITUDE 36 3 45.000 signed deg min sec SDDD MM SS.SSS*
SOUTH_LATITUDE 36 0 0.000 signed deg min sec SDDD MM SS.SSS*
PRODUCTION_DATE 1998 6 24 yyyy mm dd*
RASTER_ORDER LEFT_RIGHT/TOP_BOTTOM video display order*
BAND_ORGANIZATION "SINGLE FILE" single file or BSQ, or BIL or BIP*
BAND_CONTENT BLACK&WHITE black&white or red green blue*
BITS_PER_PIXEL 8 radiometric resolution*
SAMPLES_AND_LINES 6399 7608 number of columns and rows*
HORIZONTAL_DATUM NAD83 primary horizontal datum*
HORIZONTAL_COORDINATE_SYSTEM UTM *
COORDINATE_ZONE 11 coordinate system zone number*
HORIZONTAL_UNITS METERS coordinate system units*
HORIZONTAL_RESOLUTION 1.00 pixel horiz. ground sample distance*
SECONDARY_HORIZONTAL_DATUM NAD27 secondary horizontal datum*
XY_ORIGIN 392587.000 3991834.000 coord. of upper left pixel pri. datum*
SECONDARY_XY_ORIGIN 392666.938 3991638.615 coord upper left pixel sec datum*
NATION US nation code*
STATE CA state fip code*
NW_QUAD_CORNER_XY 393055.590 3991533.100 XY coords. of pri. NW quad corner*
NE_QUAD_CORNER_XY 398684.474 3991466.222 XY coords. of pri. NE quad corner*
SE_QUAD_CORNER_XY 398604.393 3984533.607 XY coords. of pri. SE quad corner*
SW_QUAD_CORNER_XY 392971.059 3984600.437 XY coords. of pri. SW quad corner*
SECONDARY_NW_QUAD_XY 393053.047 3991332.466 XY coords. - sec. NW quad cor.*
SECONDARY_NE_QUAD_XY 398682.064 3991265.587 XY coords. - sec. NE quad cor.*
SECONDARY_SE_QUAD_XY 398601.985 3984333.147 XY coords. - sec. SE quad cor.*
SECONDARY_SW_QUAD_XY 392968.517 3984399.978 XY coords. - sec. SW quad cor.*
RMSE_XY 2.10 doq horiz. accuracy*
IMAGE_SOURCE "BLACK AND WHITE FILM" b&w, cir, natural color, other*
SOURCE_IMAGE_ID "NAPP 6872 166" source image id*
SOURCE_IMAGE_DATE 1995 09 30 source image date as yyyy mm dd*
IMAGE_SOURCE "BLACK AND WHITE FILM" b&w, cir, natural color, other*
SOURCE_IMAGE_ID "NAPP 6872 176" source image id*
SOURCE_IMAGE_DATE 1995 09 30 source image date as yyyy mm dd*
IMAGE_SOURCE "BLACK AND WHITE FILM" b&w, cir, natural color, other*
SOURCE_IMAGE_ID "NAPP 6872 178" source image id*
SOURCE_IMAGE_DATE 1995 09 30 source image date as yyyy mm dd*
IMAGE_SOURCE "BLACK AND WHITE FILM" b&w, cir, natural color, other*
SOURCE_IMAGE_ID "NAPP 6872 165" source image id*
SOURCE_IMAGE_DATE 1995 09 30 source image date as yyyy mm dd*
SOURCE_DEM_DATE 1997 01 01 source dem date yyyy mm dd*
AGENCY "WESTERN MAPPING CENTER (WMC)" oversight agency*
PRODUCER "SCIENCE APPLICATIONS INTERNATIONAL" producer/contractor*
PRODUCTION_SYSTEM "GIS/MAGIC" production system*
STANDARD_VERSION 1996 12 version of DOQ standard*
METADATA_DATE 1998 06 25 date created or changed, yyyy mm dd*
DATA_FILE_SIZE 48689991 data set size in bytes*
BYTE_COUNT 6399 header byte count* * * * * * * * * * * * * * * * * * * * * * * * * * * *
END_USGS_HEADER *
