BEGIN_USGS_DOQ_HEADER *
QUADRANGLE_NAME "BONITA MEADOWS" 3.45 or 7.5-min. name*
QUADRANT SE quadrant indicator if cell size = 3.75-minutes*
WEST_LONGITUDE -118 18 45.000 signed deg min sec SDDD MM SS.SSS*
EAST_LONGITUDE -118 15 0.000 signed deg min sec SDDD MM SS.SSS*
NORTH_LATITUDE 36 3 45.000 signed deg min sec SDDD MM SS.SSS*
SOUTH_LATITUDE 36 0 0.000 signed deg min sec SDDD MM SS.SSS*
PRODUCTION_DATE 1998 6 24 yyyy mm dd*
RASTER_ORDER LEFT_RIGHT/TOP_BOTTOM video display order*
BAND_ORGANIZATION "SINGLE FILE" single file or BSQ, or BIL or BIP*
BAND_CONTENT BLACK&WHITE black&white or red green blue*
BITS_PER_PIXEL 8 radiometric resolution*
SAMPLES_AND_LINES 6408 7615 number of columns and rows*
HORIZONTAL_DATUM NAD83 primary horizontal datum*
HORIZONTAL_COORDINATE_SYSTEM UTM *
COORDINATE_ZONE 11 coordinate system zone number*
HORIZONTAL_UNITS METERS coordinate system units*
HORIZONTAL_RESOLUTION 1.00 pixel horiz. ground sample distance*
SECONDARY_HORIZONTAL_DATUM NAD27 secondary horizontal datum*
XY_ORIGIN 381320.000 3991978.000 coord. of upper left pixel pri. datum*
SECONDARY_XY_ORIGIN 381399.861 3991782.418 coord upper left pixel sec datum*
NATION US nation code*
STATE CA state fip code*
NW_QUAD_CORNER_XY 381797.703 3991677.705 XY coords. of pri. NW quad corner*
NE_QUAD_CORNER_XY 387426.667 3991603.594 XY coords. of pri. NE quad corner*
SE_QUAD_CORNER_XY 387337.685 3984670.882 XY coords. of pri. SE quad corner*
SW_QUAD_CORNER_XY 381704.269 3984744.940 XY coords. of pri. SW quad corner*
SECONDARY_NW_QUAD_XY 381794.892 3991477.075 XY coords. - sec. NW quad cor.*
SECONDARY_NE_QUAD_XY 387423.990 3991402.962 XY coords. - sec. NE quad cor.*
SECONDARY_SE_QUAD_XY 387335.010 3984470.424 XY coords. - sec. SE quad cor.*
SECONDARY_SW_QUAD_XY 381701.460 3984544.485 XY coords. - sec. SW quad cor.*
RMSE_XY 1.40 doq horiz. accuracy*
IMAGE_SOURCE "BLACK AND WHITE FILM" b&w, cir, natural color, other*
SOURCE_IMAGE_ID "NAPP 6872 096" source image id*
SOURCE_IMAGE_DATE 1995 09 30 source image date as yyyy mm dd*
IMAGE_SOURCE "BLACK AND WHITE FILM" b&w, cir, natural color, other*
SOURCE_IMAGE_ID "NAPP 6872 095" source image id*
SOURCE_IMAGE_DATE 1995 09 30 source image date as yyyy mm dd*
IMAGE_SOURCE "BLACK AND WHITE FILM" b&w, cir, natural color, other*
SOURCE_IMAGE_ID "NAPP 6872 097" source image id*
SOURCE_IMAGE_DATE 1995 09 30 source image date as yyyy mm dd*
SOURCE_DEM_DATE 1997 01 01 source dem date yyyy mm dd*
AGENCY "WESTERN MAPPING CENTER (WMC)" oversight agency*
PRODUCER "SCIENCE APPLICATIONS INTERNATIONAL" producer/contractor*
PRODUCTION_SYSTEM "GIS/MAGIC" production system*
STANDARD_VERSION 1996 12 version of DOQ standard*
METADATA_DATE 1998 06 25 date created or changed, yyyy mm dd*
DATA_FILE_SIZE 48803328 data set size in bytes*
BYTE_COUNT 6408 header byte count* * * * * * * * * * * * * * * * * * * * * * * * * * * * * * * *
END_USGS_HEADER *
