BEGIN_USGS_DOQ_HEADER *
QUADRANGLE_NAME "DURRWOOD CREEK" 3.45 or 7.5-min. name*
QUADRANT SW quadrant indicator if cell size = 3.75-minutes*
WEST_LONGITUDE -118 30 0.000 signed deg min sec SDDD MM SS.SSS*
EAST_LONGITUDE -118 26 15.000 signed deg min sec SDDD MM SS.SSS*
NORTH_LATITUDE 36 3 45.000 signed deg min sec SDDD MM SS.SSS*
SOUTH_LATITUDE 36 0 0.000 signed deg min sec SDDD MM SS.SSS*
PRODUCTION_DATE 1998 6 24 yyyy mm dd*
RASTER_ORDER LEFT_RIGHT/TOP_BOTTOM video display order*
BAND_ORGANIZATION "SINGLE FILE" single file or BSQ, or BIL or BIP*
BAND_CONTENT BLACK&WHITE black&white or red green blue*
BITS_PER_PIXEL 8 radiometric resolution*
SAMPLES_AND_LINES 6422 7625 number of columns and rows*
HORIZONTAL_DATUM NAD83 primary horizontal datum*
HORIZONTAL_COORDINATE_SYSTEM UTM *
COORDINATE_ZONE 11 coordinate system zone number*
HORIZONTAL_UNITS METERS coordinate system units*
HORIZONTAL_RESOLUTION 1.00 pixel horiz. ground sample distance*
SECONDARY_HORIZONTAL_DATUM NAD27 secondary horizontal datum*
XY_ORIGIN 364419.000 3992222.000 coord. of upper left pixel pri. datum*
SECONDARY_XY_ORIGIN 364498.778 3992026.030 coord upper left pixel sec datum*
NATION US nation code*
STATE CA state fip code*
NW_QUAD_CORNER_XY 364910.541 3991921.742 XY coords. of pri. NW quad corner*
NE_QUAD_CORNER_XY 370539.642 3991836.779 XY coords. of pri. NE quad corner*
SE_QUAD_CORNER_XY 370437.304 3984903.901 XY coords. of pri. SE quad corner*
SW_QUAD_CORNER_XY 364803.751 3984988.804 XY coords. of pri. SW quad corner*
SECONDARY_NW_QUAD_XY 364907.328 3991721.117 XY coords. - sec. NW quad cor.*
SECONDARY_NE_QUAD_XY 370536.563 3991636.152 XY coords. - sec. NE quad cor.*
SECONDARY_SE_QUAD_XY 370434.228 3984703.449 XY coords. - sec. SE quad cor.*
SECONDARY_SW_QUAD_XY 364800.540 3984788.354 XY coords. - sec. SW quad cor.*
RMSE_XY 1.90 doq horiz. accuracy*
IMAGE_SOURCE "BLACK AND WHITE FILM" b&w, cir, natural color, other*
SOURCE_IMAGE_ID "NAPP 6866 261" source image id*
SOURCE_IMAGE_DATE 1994 06 02 source image date as yyyy mm dd*
IMAGE_SOURCE "BLACK AND WHITE FILM" b&w, cir, natural color, other*
SOURCE_IMAGE_ID "NAPP 6872 201" source image id*
SOURCE_IMAGE_DATE 1995 09 30 source image date as yyyy mm dd*
IMAGE_SOURCE "BLACK AND WHITE FILM" b&w, cir, natural color, other*
SOURCE_IMAGE_ID "NAPP 6866 260" source image id*
SOURCE_IMAGE_DATE 1994 06 02 source image date as yyyy mm dd*
IMAGE_SOURCE "BLACK AND WHITE FILM" b&w, cir, natural color, other*
SOURCE_IMAGE_ID "NAPP 6866 262" source image id*
SOURCE_IMAGE_DATE 1994 06 02 source image date as yyyy mm dd*
IMAGE_SOURCE "BLACK AND WHITE FILM" b&w, cir, natural color, other*
SOURCE_IMAGE_ID "NAPP 6872 053" source image id*
SOURCE_IMAGE_DATE 1995 09 30 source image date as yyyy mm dd*
SOURCE_DEM_DATE 1997 01 01 source dem date yyyy mm dd*
AGENCY "WESTERN MAPPING CENTER (WMC)" oversight agency*
PRODUCER "SCIENCE APPLICATIONS INTERNATIONAL" producer/contractor*
PRODUCTION_SYSTEM "GIS/MAGIC" production system*
STANDARD_VERSION 1996 12 version of DOQ standard*
METADATA_DATE 1998 06 25 date created or changed, yyyy mm dd*
DATA_FILE_SIZE 48974172 data set size in bytes*
BYTE_COUNT 6422 header byte count* * * * * * * * * * * * * * * * * * * * * * * * * *
END_USGS_HEADER *
