BEGIN_USGS_DOQ_HEADER *
QUADRANGLE_NAME "SOLO PEAK" 3.45 or 7.5-min. name*
QUADRANT NE quadrant indicator if cell size = 3.75-minutes*
WEST_LONGITUDE -118 41 15.000 signed deg min sec SDDD MM SS.SSS*
EAST_LONGITUDE -118 37 30.000 signed deg min sec SDDD MM SS.SSS*
NORTH_LATITUDE 36 7 30.000 signed deg min sec SDDD MM SS.SSS*
SOUTH_LATITUDE 36 3 45.000 signed deg min sec SDDD MM SS.SSS*
PRODUCTION_DATE 1998 6 24 yyyy mm dd*
RASTER_ORDER LEFT_RIGHT/TOP_BOTTOM video display order*
BAND_ORGANIZATION "SINGLE FILE" single file or BSQ, or BIL or BIP*
BAND_CONTENT BLACK&WHITE black&white or red green blue*
BITS_PER_PIXEL 8 radiometric resolution*
SAMPLES_AND_LINES 6432 7636 number of columns and rows*
HORIZONTAL_DATUM NAD83 primary horizontal datum*
HORIZONTAL_COORDINATE_SYSTEM UTM *
COORDINATE_ZONE 11 coordinate system zone number*
HORIZONTAL_UNITS METERS coordinate system units*
HORIZONTAL_RESOLUTION 1.00 pixel horiz. ground sample distance*
SECONDARY_HORIZONTAL_DATUM NAD27 secondary horizontal datum*
XY_ORIGIN 347638.000 3999432.000 coord. of upper left pixel pri. datum*
SECONDARY_XY_ORIGIN 347717.620 3999235.622 coord upper left pixel sec datum*
NATION US nation code*
STATE CA state fip code*
NW_QUAD_CORNER_XY 348143.261 3999131.540 XY coords. of pri. NW quad corner*
NE_QUAD_CORNER_XY 353768.057 3999035.655 XY coords. of pri. NE quad corner*
SE_QUAD_CORNER_XY 353652.187 3992102.522 XY coords. of pri. SE quad corner*
SW_QUAD_CORNER_XY 348022.930 3992198.340 XY coords. of pri. SW quad corner*
SECONDARY_NW_QUAD_XY 348139.643 3998930.748 XY coords. - sec. NW quad cor.*
SECONDARY_NE_QUAD_XY 353764.574 3998834.860 XY coords. - sec. NE quad cor.*
SECONDARY_SE_QUAD_XY 353648.706 3991901.902 XY coords. - sec. SE quad cor.*
SECONDARY_SW_QUAD_XY 348019.315 3991997.722 XY coords. - sec. SW quad cor.*
RMSE_XY 4.70 doq horiz. accuracy*
IMAGE_SOURCE "BLACK AND WHITE FILM" b&w, cir, natural color, other*
SOURCE_IMAGE_ID "NAPP 6867 006" source image id*
SOURCE_IMAGE_DATE 1994 06 02 source image date as yyyy mm dd*
IMAGE_SOURCE "BLACK AND WHITE FILM" b&w, cir, natural color, other*
SOURCE_IMAGE_ID "NAPP 6876 088" source image id*
SOURCE_IMAGE_DATE 1995 10 04 source image date as yyyy mm dd*
IMAGE_SOURCE "BLACK AND WHITE FILM" b&w, cir, natural color, other*
SOURCE_IMAGE_ID "NAPP 6876 089" source image id*
SOURCE_IMAGE_DATE 1995 10 04 source image date as yyyy mm dd*
IMAGE_SOURCE "BLACK AND WHITE FILM" b&w, cir, natural color, other*
SOURCE_IMAGE_ID "NAPP 6867 007" source image id*
SOURCE_IMAGE_DATE 1994 06 02 source image date as yyyy mm dd*
IMAGE_SOURCE "BLACK AND WHITE FILM" b&w, cir, natural color, other*
SOURCE_IMAGE_ID "NAPP 6867 005" source image id*
SOURCE_IMAGE_DATE 1994 06 02 source image date as yyyy mm dd*
IMAGE_SOURCE "BLACK AND WHITE FILM" b&w, cir, natural color, other*
SOURCE_IMAGE_ID "NAPP 6872 040" source image id*
SOURCE_IMAGE_DATE 1995 09 30 source image date as yyyy mm dd*
SOURCE_DEM_DATE 1997 01 01 source dem date yyyy mm dd*
AGENCY "WESTERN MAPPING CENTER (WMC)" oversight agency*
PRODUCER "SCIENCE APPLICATIONS INTERNATIONAL" producer/contractor*
PRODUCTION_SYSTEM "GIS/MAGIC" production system*
STANDARD_VERSION 1996 12 version of DOQ standard*
METADATA_DATE 1998 06 25 date created or changed, yyyy mm dd*
DATA_FILE_SIZE 49121184 data set size in bytes*
BYTE_COUNT 6432 header byte count* * * * * * * * * * * * * * * * * * * * * * *
END_USGS_HEADER *
