BEGIN_USGS_DOQ_HEADER *
QUADRANGLE_NAME "SUCCESS DAM" *
QUADRANT SW *
NORTH_LATITUDE 36 03 45.000 *
WEST_LONGITUDE -119 00 00.000 *
SOUTH_LATITUDE 36 00 00.000 *
EAST_LONGITUDE -118 56 15.000 *
PRODUCTION_DATE 1998 11 30 *
RASTER_ORDER LEFT_RIGHT/TOP_BOTTOM *
BAND_ORGANIZATION "SINGLE FILE" *
BAND_CONTENT BLACK&WHITE *
BITS_PER_PIXEL 8 *
SAMPLES_AND_LINES 6510 7680 *
HORIZONTAL_DATUM NAD83 *
HORIZONTAL_COORDINATE_SYSTEM UTM *
COORDINATE_ZONE 11 *
HORIZONTAL_UNITS METERS *
HORIZONTAL_RESOLUTION 1.000 *
SECONDARY_HORIZONTAL_DATUM NAD27 *
XY_ORIGIN 319320.000 3993060.000 *
SECONDARY_XY_ORIGIN 319399.964 3992862.955 *
NATION US *
STATE CA *
NW_QUAD_CORNER_XY 319875.766 3992731.720 *
NE_QUAD_CORNER_XY 325505.323 3992617.804 *
SE_QUAD_CORNER_XY 325367.355 3985684.373 *
SW_QUAD_CORNER_XY 319733.342 3985798.208 *
SECONDARY_NW_QUAD_XY 319871.481 3992531.114 *
SECONDARY_NE_QUAD_XY 325501.172 3992417.196 *
SECONDARY_SE_QUAD_XY 325363.208 3985483.940 *
SECONDARY_SW_QUAD_XY 319729.061 3985597.778 *
RMSE_XY 1.157 *
IMAGE_SOURCE "BLACK AND WHITE FILM" *
SOURCE_IMAGE_ID "NAPP 6856 38" *
SOURCE_IMAGE_DATE 1994 05 29 *
SOURCE_DEM_DATE 1956 00 00 *
AGENCY "WESTERN MAPPING CENTER (WMC)" *
PRODUCER "ANALYTICAL SURVEYS INC." *
PRODUCTION_SYSTEM "ORBIT OR_RECTIFY V.5.2" *
STANDARD_VERSION 1996 12 *
METADATA_DATE 1998 12 03 *
DATA_FILE_SIZE 50003310 *
BYTE_COUNT 6510 * * * * * * * * * * * * * * * * * * * * * * * * * * * * * * * * * * * * * * *
END_USGS_HEADER *
