BEGIN_USGS_DOQ_HEADER *
QUADRANGLE_NAME "HAIWEE PASS" 3.45 or 7.5-min. name*
QUADRANT SW quadrant indicator if cell size = 3.75-minutes*
WEST_LONGITUDE -118 7 30.000 signed deg min sec SDDD MM SS.SSS*
EAST_LONGITUDE -118 3 45.000 signed deg min sec SDDD MM SS.SSS*
NORTH_LATITUDE 36 11 15.000 signed deg min sec SDDD MM SS.SSS*
SOUTH_LATITUDE 36 7 30.000 signed deg min sec SDDD MM SS.SSS*
PRODUCTION_DATE 1998 6 24 yyyy mm dd*
RASTER_ORDER LEFT_RIGHT/TOP_BOTTOM video display order*
BAND_ORGANIZATION "SINGLE FILE" single file or BSQ, or BIL or BIP*
BAND_CONTENT BLACK&WHITE black&white or red green blue*
BITS_PER_PIXEL 8 radiometric resolution*
SAMPLES_AND_LINES 6385 7604 number of columns and rows*
HORIZONTAL_DATUM NAD83 primary horizontal datum*
HORIZONTAL_COORDINATE_SYSTEM UTM *
COORDINATE_ZONE 11 coordinate system zone number*
HORIZONTAL_UNITS METERS coordinate system units*
HORIZONTAL_RESOLUTION 1.00 pixel horiz. ground sample distance*
SECONDARY_HORIZONTAL_DATUM NAD27 secondary horizontal datum*
XY_ORIGIN 398381.000 4005632.000 coord. of upper left pixel pri. datum*
SECONDARY_XY_ORIGIN 398461.037 4005436.668 coord upper left pixel sec datum*
NATION US nation code*
STATE CA state fip code*
NW_QUAD_CORNER_XY 398844.998 4005331.662 XY coords. of pri. NW quad corner*
NE_QUAD_CORNER_XY 404464.923 4005268.311 XY coords. of pri. NE quad corner*
SE_QUAD_CORNER_XY 404389.064 3998335.601 XY coords. of pri. SE quad corner*
SW_QUAD_CORNER_XY 398764.675 3998398.907 XY coords. of pri. SW quad corner*
SECONDARY_NW_QUAD_XY 398842.584 4005130.678 XY coords. - sec. NW quad cor.*
SECONDARY_NE_QUAD_XY 404462.643 4005067.326 XY coords. - sec. NE quad cor.*
SECONDARY_SE_QUAD_XY 404386.787 3998134.790 XY coords. - sec. SE quad cor.*
SECONDARY_SW_QUAD_XY 398762.264 3998198.097 XY coords. - sec. SW quad cor.*
RMSE_XY 2.40 doq horiz. accuracy*
IMAGE_SOURCE "BLACK AND WHITE FILM" b&w, cir, natural color, other*
SOURCE_IMAGE_ID "NAPP 6871 123" source image id*
SOURCE_IMAGE_DATE 1995 09 30 source image date as yyyy mm dd*
IMAGE_SOURCE "BLACK AND WHITE FILM" b&w, cir, natural color, other*
SOURCE_IMAGE_ID "NAPP 6872 163" source image id*
SOURCE_IMAGE_DATE 1995 09 30 source image date as yyyy mm dd*
IMAGE_SOURCE "BLACK AND WHITE FILM" b&w, cir, natural color, other*
SOURCE_IMAGE_ID "NAPP 6872 107" source image id*
SOURCE_IMAGE_DATE 1995 09 30 source image date as yyyy mm dd*
IMAGE_SOURCE "BLACK AND WHITE FILM" b&w, cir, natural color, other*
SOURCE_IMAGE_ID "NAPP 6872 162" source image id*
SOURCE_IMAGE_DATE 1995 09 30 source image date as yyyy mm dd*
IMAGE_SOURCE "BLACK AND WHITE FILM" b&w, cir, natural color, other*
SOURCE_IMAGE_ID "NAPP 6871 122" source image id*
SOURCE_IMAGE_DATE 1995 09 30 source image date as yyyy mm dd*
IMAGE_SOURCE "BLACK AND WHITE FILM" b&w, cir, natural color, other*
SOURCE_IMAGE_ID "NAPP 6872 129" source image id*
SOURCE_IMAGE_DATE 1995 09 30 source image date as yyyy mm dd*
IMAGE_SOURCE "BLACK AND WHITE FILM" b&w, cir, natural color, other*
SOURCE_IMAGE_ID "NAPP 6879 059" source image id*
SOURCE_IMAGE_DATE 1995 10 05 source image date as yyyy mm dd*
IMAGE_SOURCE "BLACK AND WHITE FILM" b&w, cir, natural color, other*
SOURCE_IMAGE_ID "NAPP 6879 060" source image id*
SOURCE_IMAGE_DATE 1995 10 05 source image date as yyyy mm dd*
SOURCE_DEM_DATE 1997 01 01 source dem date yyyy mm dd*
AGENCY "WESTERN MAPPING CENTER (WMC)" oversight agency*
PRODUCER "SCIENCE APPLICATIONS INTERNATIONAL" producer/contractor*
PRODUCTION_SYSTEM "GIS/MAGIC" production system*
STANDARD_VERSION 1996 12 version of DOQ standard*
METADATA_DATE 1998 06 25 date created or changed, yyyy mm dd*
DATA_FILE_SIZE 48557925 data set size in bytes*
BYTE_COUNT 6385 header byte count* * * * * * * * * * * * * * * *
END_USGS_HEADER *
