BEGIN_USGS_DOQ_HEADER *
QUADRANGLE_NAME "KERN LAKE" 3.45 or 7.5-min. name*
QUADRANT SW quadrant indicator if cell size = 3.75-minutes*
WEST_LONGITUDE -118 30 0.000 signed deg min sec SDDD MM SS.SSS*
EAST_LONGITUDE -118 26 15.000 signed deg min sec SDDD MM SS.SSS*
NORTH_LATITUDE 36 18 45.000 signed deg min sec SDDD MM SS.SSS*
SOUTH_LATITUDE 36 15 0.000 signed deg min sec SDDD MM SS.SSS*
PRODUCTION_DATE 1998 1 26 yyyy mm dd*
RASTER_ORDER LEFT_RIGHT/TOP_BOTTOM video display order*
BAND_ORGANIZATION "SINGLE FILE" single file or BSQ, or BIL or BIP*
BAND_CONTENT BLACK&WHITE black&white or red green blue*
BITS_PER_PIXEL 8 radiometric resolution*
SAMPLES_AND_LINES 6405 7627 number of columns and rows*
HORIZONTAL_DATUM NAD83 primary horizontal datum*
HORIZONTAL_COORDINATE_SYSTEM UTM *
COORDINATE_ZONE 11 coordinate system zone number*
HORIZONTAL_UNITS METERS coordinate system units*
HORIZONTAL_RESOLUTION 1.00 pixel horiz. ground sample distance*
SECONDARY_HORIZONTAL_DATUM NAD27 secondary horizontal datum*
XY_ORIGIN 364847.000 4019955.000 coord. of upper left pixel pri. datum*
SECONDARY_XY_ORIGIN 364926.720 4019758.915 coord upper left pixel sec datum*
NATION US nation code*
STATE CA state fip code*
NW_QUAD_CORNER_XY 365339.311 4019654.169 XY coords. of pri. NW quad corner*
NE_QUAD_CORNER_XY 370950.535 4019568.969 XY coords. of pri. NE quad corner*
SE_QUAD_CORNER_XY 370847.581 4012635.820 XY coords. of pri. SE quad corner*
SW_QUAD_CORNER_XY 365231.877 4012720.961 XY coords. of pri. SW quad corner*
SECONDARY_NW_QUAD_XY 365336.087 4019452.852 XY coords. - sec. NW quad cor.*
SECONDARY_NE_QUAD_XY 370947.446 4019367.650 XY coords. - sec. NE quad cor.*
SECONDARY_SE_QUAD_XY 370844.494 4012434.672 XY coords. - sec. SE quad cor.*
SECONDARY_SW_QUAD_XY 365228.656 4012519.816 XY coords. - sec. SW quad cor.*
RMSE_XY 3.80 doq horiz. accuracy*
IMAGE_SOURCE "BLACK AND WHITE FILM" b&w, cir, natural color, other*
SOURCE_IMAGE_ID "NAPP 6872 017" source image id*
SOURCE_IMAGE_DATE 1995 9 30 source image date as yyyy mm dd*
IMAGE_SOURCE "BLACK AND WHITE FILM" b&w, cir, natural color, other*
SOURCE_IMAGE_ID "NAPP 6872 018" source image id*
SOURCE_IMAGE_DATE 1995 9 30 source image date as yyyy mm dd*
IMAGE_SOURCE "BLACK AND WHITE FILM" b&w, cir, natural color, other*
SOURCE_IMAGE_ID "NAPP 6872 016" source image id*
SOURCE_IMAGE_DATE 1995 9 30 source image date as yyyy mm dd*
IMAGE_SOURCE "BLACK AND WHITE FILM" b&w, cir, natural color, other*
SOURCE_IMAGE_ID "NAPP 6872 063" source image id*
SOURCE_IMAGE_DATE 1995 9 30 source image date as yyyy mm dd*
SOURCE_DEM_DATE 1998 1 26 source dem date yyyy mm dd*
AGENCY "WESTERN MAPPING CENTER (WMC)" oversight agency*
PRODUCER "PHOTO SCIENCE INC." *
PRODUCTION_SYSTEM "GIS/MAGIC" production system*
STANDARD_VERSION 1996 12 version of DOQ standard*
METADATA_DATE 1998 3 24 date created or changed, yyyy mm dd*
DATA_FILE_SIZE 48857340 data set size in bytes*
BYTE_COUNT 6405 header byte count* * * * * * * * * * * * * * * * * * * * * * * * * * * * *
END_USGS_HEADER *
