BEGIN_USGS_DOQ_HEADER *
QUADRANGLE_NAME "QUINN PEAK" 3.45 or 7.5-min. name*
QUADRANT SW quadrant indicator if cell size = 3.75-minutes*
WEST_LONGITUDE -118 37 30.000 signed deg min sec SDDD MM SS.SSS*
EAST_LONGITUDE -118 33 45.000 signed deg min sec SDDD MM SS.SSS*
NORTH_LATITUDE 36 18 45.000 signed deg min sec SDDD MM SS.SSS*
SOUTH_LATITUDE 36 15 0.000 signed deg min sec SDDD MM SS.SSS*
PRODUCTION_DATE 1998 1 26 yyyy mm dd*
RASTER_ORDER LEFT_RIGHT/TOP_BOTTOM video display order*
BAND_ORGANIZATION "SINGLE FILE" single file or BSQ, or BIL or BIP*
BAND_CONTENT BLACK&WHITE black&white or red green blue*
BITS_PER_PIXEL 8 radiometric resolution*
SAMPLES_AND_LINES 6414 7634 number of columns and rows*
HORIZONTAL_DATUM NAD83 primary horizontal datum*
HORIZONTAL_COORDINATE_SYSTEM UTM *
COORDINATE_ZONE 11 coordinate system zone number*
HORIZONTAL_UNITS METERS coordinate system units*
HORIZONTAL_RESOLUTION 1.00 pixel horiz. ground sample distance*
SECONDARY_HORIZONTAL_DATUM NAD27 secondary horizontal datum*
XY_ORIGIN 353616.000 4020136.000 coord. of upper left pixel pri. datum*
SECONDARY_XY_ORIGIN 353695.686 4019939.529 coord upper left pixel sec datum*
NATION US nation code*
STATE CA state fip code*
NW_QUAD_CORNER_XY 354116.715 4019835.453 XY coords. of pri. NW quad corner*
NE_QUAD_CORNER_XY 359728.038 4019742.997 XY coords. of pri. NE quad corner*
SE_QUAD_CORNER_XY 359616.125 4012809.728 XY coords. of pri. SE quad corner*
SW_QUAD_CORNER_XY 354000.321 4012902.120 XY coords. of pri. SW quad corner*
SECONDARY_NW_QUAD_XY 354113.222 4019634.141 XY coords. - sec. NW quad cor.*
SECONDARY_NE_QUAD_XY 359724.680 4019541.682 XY coords. - sec. NE quad cor.*
SECONDARY_SE_QUAD_XY 359612.769 4012608.585 XY coords. - sec. SE quad cor.*
SECONDARY_SW_QUAD_XY 353996.832 4012700.980 XY coords. - sec. SW quad cor.*
RMSE_XY 5.80 doq horiz. accuracy*
IMAGE_SOURCE "BLACK AND WHITE FILM" b&w, cir, natural color, other*
SOURCE_IMAGE_ID "NAPP 6872 035" source image id*
SOURCE_IMAGE_DATE 1995 9 30 source image date as yyyy mm dd*
IMAGE_SOURCE "BLACK AND WHITE FILM" b&w, cir, natural color, other*
SOURCE_IMAGE_ID "NAPP 6872 036" source image id*
SOURCE_IMAGE_DATE 1995 9 30 source image date as yyyy mm dd*
IMAGE_SOURCE "BLACK AND WHITE FILM" b&w, cir, natural color, other*
SOURCE_IMAGE_ID "NAPP 6872 034" source image id*
SOURCE_IMAGE_DATE 1995 9 30 source image date as yyyy mm dd*
SOURCE_DEM_DATE 1998 1 26 source dem date yyyy mm dd*
AGENCY "WESTERN MAPPING CENTER (WMC)" oversight agency*
PRODUCER "PHOTO SCIENCE INC." *
PRODUCTION_SYSTEM "GIS/MAGIC" production system*
STANDARD_VERSION 1996 12 version of DOQ standard*
METADATA_DATE 1998 3 24 date created or changed, yyyy mm dd*
DATA_FILE_SIZE 48970890 data set size in bytes*
BYTE_COUNT 6414 header byte count* * * * * * * * * * * * * * * * * * * * * * * * * * * * * * * *
END_USGS_HEADER *
