BEGIN_USGS_DOQ_HEADER *
QUADRANGLE_NAME "DENNISON PEAK" 3.45 or 7.5-min. name*
QUADRANT NW quadrant indicator if cell size = 3.75-minutes*
WEST_LONGITUDE -118 52 30.000 signed deg min sec SDDD MM SS.SSS*
EAST_LONGITUDE -118 48 45.000 signed deg min sec SDDD MM SS.SSS*
NORTH_LATITUDE 36 22 30.000 signed deg min sec SDDD MM SS.SSS*
SOUTH_LATITUDE 36 18 45.000 signed deg min sec SDDD MM SS.SSS*
PRODUCTION_DATE 1998 5 1 yyyy mm dd*
RASTER_ORDER LEFT_RIGHT/TOP_BOTTOM video display order*
BAND_ORGANIZATION "SINGLE FILE" single file or BSQ, or BIL or BIP*
BAND_CONTENT BLACK&WHITE black&white or red green blue*
BITS_PER_PIXEL 8 radiometric resolution*
SAMPLES_AND_LINES 6428 7648 number of columns and rows*
HORIZONTAL_DATUM NAD83 primary horizontal datum*
HORIZONTAL_COORDINATE_SYSTEM UTM *
COORDINATE_ZONE 11 coordinate system zone number*
HORIZONTAL_UNITS METERS coordinate system units*
HORIZONTAL_RESOLUTION 1.00 pixel horiz. ground sample distance*
SECONDARY_HORIZONTAL_DATUM NAD27 secondary horizontal datum*
XY_ORIGIN 331286.000 4027476.000 coord. of upper left pixel pri. datum*
SECONDARY_XY_ORIGIN 331365.692 4027278.714 coord upper left pixel sec datum*
NATION US nation code*
STATE CA state fip code*
NW_QUAD_CORNER_XY 331805.398 4027175.245 XY coords. of pri. NW quad corner*
NE_QUAD_CORNER_XY 337412.454 4027068.199 XY coords. of pri. NE quad corner*
SE_QUAD_CORNER_XY 337282.424 4020134.595 XY coords. of pri. SE quad corner*
SW_QUAD_CORNER_XY 331670.880 4020241.568 XY coords. of pri. SW quad corner*
SECONDARY_NW_QUAD_XY 331801.364 4026973.771 XY coords. - sec. NW quad cor.*
SECONDARY_NE_QUAD_XY 337408.555 4026866.723 XY coords. - sec. NE quad cor.*
SECONDARY_SE_QUAD_XY 337278.528 4019933.290 XY coords. - sec. SE quad cor.*
SECONDARY_SW_QUAD_XY 331666.850 4020040.265 XY coords. - sec. SW quad cor.*
RMSE_XY 2.10 doq horiz. accuracy*
IMAGE_SOURCE "BLACK AND WHITE FILM" b&w, cir, natural color, other*
SOURCE_IMAGE_ID "NAPP 6876 108" source image id*
SOURCE_IMAGE_DATE 1995 10 04 source image date as yyyy mm dd*
SOURCE_DEM_DATE 1997 01 01 source dem date yyyy mm dd*
AGENCY "WESTERN MAPPING CENTER (WMC)" oversight agency*
PRODUCER "SCIENCE APPLICATIONS INTERNATIONAL" producer/contractor*
PRODUCTION_SYSTEM "GIS/MAGIC" production system*
STANDARD_VERSION 1996 12 version of DOQ standard*
METADATA_DATE 1998 05 21 date created or changed, yyyy mm dd*
DATA_FILE_SIZE 49167772 data set size in bytes*
BYTE_COUNT 6428 header byte count* * * * * * * * * * * * * * * * * * * * * * * * * * * * * * * * * * * * * *
END_USGS_HEADER *
