BEGIN_USGS_DOQ_HEADER *
QUADRANGLE_NAME "BARTLETT" 3.45 or 7.5-min. name*
QUADRANT SW quadrant indicator if cell size = 3.75-minutes*
WEST_LONGITUDE -118 7 30.000 signed deg min sec SDDD MM SS.SSS*
EAST_LONGITUDE -118 3 45.000 signed deg min sec SDDD MM SS.SSS*
NORTH_LATITUDE 36 26 15.000 signed deg min sec SDDD MM SS.SSS*
SOUTH_LATITUDE 36 22 30.000 signed deg min sec SDDD MM SS.SSS*
PRODUCTION_DATE 1998 1 28 yyyy mm dd*
RASTER_ORDER LEFT_RIGHT/TOP_BOTTOM video display order*
BAND_ORGANIZATION "SINGLE FILE" single file or BSQ, or BIL or BIP*
BAND_CONTENT BLACK&WHITE black&white or red green blue*
BITS_PER_PIXEL 8 radiometric resolution*
SAMPLES_AND_LINES 6368 7606 number of columns and rows*
HORIZONTAL_DATUM NAD83 primary horizontal datum*
HORIZONTAL_COORDINATE_SYSTEM UTM *
COORDINATE_ZONE 11 coordinate system zone number*
HORIZONTAL_UNITS METERS coordinate system units*
HORIZONTAL_RESOLUTION 1.00 pixel horiz. ground sample distance*
SECONDARY_HORIZONTAL_DATUM NAD27 secondary horizontal datum*
XY_ORIGIN 398703.000 4033364.000 coord. of upper left pixel pri. datum*
SECONDARY_XY_ORIGIN 398783.054 4033168.472 coord upper left pixel sec datum*
NATION US nation code*
STATE CA state fip code*
NW_QUAD_CORNER_XY 399167.492 4033063.377 XY coords. of pri. NW quad corner*
NE_QUAD_CORNER_XY 404769.495 4032999.853 XY coords. of pri. NE quad corner*
SE_QUAD_CORNER_XY 404693.181 4026066.863 XY coords. of pri. SE quad corner*
SW_QUAD_CORNER_XY 399086.688 4026130.344 XY coords. of pri. SW quad corner*
SECONDARY_NW_QUAD_XY 399165.071 4032861.708 XY coords. - sec. NW quad cor.*
SECONDARY_NE_QUAD_XY 404767.208 4032798.182 XY coords. - sec. NE quad cor.*
SECONDARY_SE_QUAD_XY 404690.896 4025865.362 XY coords. - sec. SE quad cor.*
SECONDARY_SW_QUAD_XY 399084.268 4025928.845 XY coords. - sec. SW quad cor.*
RMSE_XY 2.30 doq horiz. accuracy*
IMAGE_SOURCE "BLACK AND WHITE FILM" b&w, cir, natural color, other*
SOURCE_IMAGE_ID "NAPP 6871 115" source image id*
SOURCE_IMAGE_DATE 1995 9 30 source image date as yyyy mm dd*
IMAGE_SOURCE "BLACK AND WHITE FILM" b&w, cir, natural color, other*
SOURCE_IMAGE_ID "NAPP 6871 114" source image id*
SOURCE_IMAGE_DATE 1995 9 30 source image date as yyyy mm dd*
IMAGE_SOURCE "BLACK AND WHITE FILM" b&w, cir, natural color, other*
SOURCE_IMAGE_ID "NAPP 6871 116" source image id*
SOURCE_IMAGE_DATE 1995 9 30 source image date as yyyy mm dd*
SOURCE_DEM_DATE 1998 1 28 source dem date yyyy mm dd*
AGENCY "WESTERN MAPPING CENTER (WMC)" oversight agency*
PRODUCER "SCIENCE APPLICATIONS INTERNATIONAL" *
PRODUCTION_SYSTEM "GIS/MAGIC" production system*
STANDARD_VERSION 1996 12 version of DOQ standard*
METADATA_DATE 1998 3 11 date created or changed, yyyy mm dd*
DATA_FILE_SIZE 48441376 data set size in bytes*
BYTE_COUNT 6368 header byte count* * * * * * * * * * * * * * * * * * * * * * * * * * * * * * *
END_USGS_HEADER *
