BEGIN_USGS_DOQ_HEADER *
QUADRANGLE_NAME "CHAGOOPA FALLS" 3.45 or 7.5-min. name*
QUADRANT NW quadrant indicator if cell size = 3.75-minutes*
WEST_LONGITUDE -118 30 0.000 signed deg min sec SDDD MM SS.SSS*
EAST_LONGITUDE -118 26 15.000 signed deg min sec SDDD MM SS.SSS*
NORTH_LATITUDE 36 30 0.000 signed deg min sec SDDD MM SS.SSS*
SOUTH_LATITUDE 36 26 15.000 signed deg min sec SDDD MM SS.SSS*
PRODUCTION_DATE 1998 1 26 yyyy mm dd*
RASTER_ORDER LEFT_RIGHT/TOP_BOTTOM video display order*
BAND_ORGANIZATION "SINGLE FILE" single file or BSQ, or BIL or BIP*
BAND_CONTENT BLACK&WHITE black&white or red green blue*
BITS_PER_PIXEL 8 radiometric resolution*
SAMPLES_AND_LINES 6392 7628 number of columns and rows*
HORIZONTAL_DATUM NAD83 primary horizontal datum*
HORIZONTAL_COORDINATE_SYSTEM UTM *
COORDINATE_ZONE 11 coordinate system zone number*
HORIZONTAL_UNITS METERS coordinate system units*
HORIZONTAL_RESOLUTION 1.00 pixel horiz. ground sample distance*
SECONDARY_HORIZONTAL_DATUM NAD27 secondary horizontal datum*
XY_ORIGIN 365170.000 4040755.000 coord. of upper left pixel pri. datum*
SECONDARY_XY_ORIGIN 365249.757 4040558.697 coord upper left pixel sec datum*
NATION US nation code*
STATE CA state fip code*
NW_QUAD_CORNER_XY 365662.575 4040454.200 XY coords. of pri. NW quad corner*
NE_QUAD_CORNER_XY 371260.322 4040368.827 XY coords. of pri. NE quad corner*
SE_QUAD_CORNER_XY 371156.906 4033435.473 XY coords. of pri. SE quad corner*
SW_QUAD_CORNER_XY 365554.660 4033520.789 XY coords. of pri. SW quad corner*
SECONDARY_NW_QUAD_XY 365659.344 4040252.373 XY coords. - sec. NW quad cor.*
SECONDARY_NE_QUAD_XY 371257.225 4040166.997 XY coords. - sec. NE quad cor.*
SECONDARY_SE_QUAD_XY 371153.812 4033233.813 XY coords. - sec. SE quad cor.*
SECONDARY_SW_QUAD_XY 365551.431 4033319.131 XY coords. - sec. SW quad cor.*
RMSE_XY 2.20 doq horiz. accuracy*
IMAGE_SOURCE "BLACK AND WHITE FILM" b&w, cir, natural color, other*
SOURCE_IMAGE_ID "NAPP 6872 011" source image id*
SOURCE_IMAGE_DATE 1995 9 30 source image date as yyyy mm dd*
IMAGE_SOURCE "BLACK AND WHITE FILM" b&w, cir, natural color, other*
SOURCE_IMAGE_ID "NAPP 6872 012" source image id*
SOURCE_IMAGE_DATE 1995 9 30 source image date as yyyy mm dd*
IMAGE_SOURCE "BLACK AND WHITE FILM" b&w, cir, natural color, other*
SOURCE_IMAGE_ID "NAPP 6319 03" source image id*
SOURCE_IMAGE_DATE 1995 9 30 source image date as yyyy mm dd*
SOURCE_DEM_DATE 1998 1 26 source dem date yyyy mm dd*
AGENCY "WESTERN MAPPING CENTER (WMC)" oversight agency*
PRODUCER "PHOTO SCIENCE INC." *
PRODUCTION_SYSTEM "GIS/MAGIC" production system*
STANDARD_VERSION 1996 12 version of DOQ standard*
METADATA_DATE 1998 3 23 date created or changed, yyyy mm dd*
DATA_FILE_SIZE 48764568 data set size in bytes*
BYTE_COUNT 6392 header byte count* * * * * * * * * * * * * * * * * * * * * * * * * * * * * * *
END_USGS_HEADER *
