BEGIN_USGS_DOQ_HEADER *
QUADRANGLE_NAME "MOUNT LANGLEY" *
QUADRANT NE *
WEST_LONGITUDE -118 11 15.000 *
EAST_LONGITUDE -118 7 30.000 *
NORTH_LATITUDE 36 37 30.000 *
SOUTH_LATITUDE 36 33 45.000 *
PRODUCTION_DATE 2001 12 11 *
RASTER_ORDER LEFT_RIGHT/TOP_BOTTOM *
BAND_ORGANIZATION "SINGLE FILE" *
BAND_CONTENT BLACK&WHITE *
BITS_PER_PIXEL 8 *
SAMPLES_AND_LINES 6357 7607 *
HORIZONTAL_DATUM NAD83 *
HORIZONTAL_COORDINATE_SYSTEM UTM *
COORDINATE_ZONE 11 *
HORIZONTAL_UNITS METERS *
HORIZONTAL_RESOLUTION 1.0 *
SECONDARY_HORIZONTAL_DATUM NAD27 *
XY_ORIGIN 393353.800 4054230.189 *
SECONDARY_XY_ORIGIN 393433.957 4054034.343 *
NATION US *
STATE CA *
NW_QUAD_CORNER_XY 393822.102 4053930.189 *
NE_QUAD_CORNER_XY 399410.627 4053862.898 *
SE_QUAD_CORNER_XY 399329.462 4046929.655 *
SW_QUAD_CORNER_XY 393736.426 4046996.900 *
SECONDARY_NW_QUAD_XY 393819.541 4053728.015 *
SECONDARY_NE_QUAD_XY 399408.201 4053660.723 *
SECONDARY_SE_QUAD_XY 399327.038 4046727.647 *
SECONDARY_SW_QUAD_XY 393733.867 4046794.894 *
RMSE_XY 1.94 *
IMAGE_SOURCE "BLACK AND WHITE FILM" *
SOURCE_IMAGE_ID "NAPP 10553 165" *
SOURCE_IMAGE_DATE 1998 8 23 *
SOURCE_IMAGE_ID "NAPP 10553 166" *
SOURCE_IMAGE_DATE 1998 8 23 *
SOURCE_IMAGE_ID "NAPP 10553 164" *
SOURCE_IMAGE_DATE 1998 8 23 *
SOURCE_IMAGE_ID "NAPP 10569 216" *
SOURCE_IMAGE_DATE 1999 8 8 *
SOURCE_IMAGE_ID "NAPP 10569 215" *
SOURCE_IMAGE_DATE 1999 8 8 *
SOURCE_IMAGE_ID "NAPP 10569 214" *
SOURCE_IMAGE_DATE 1999 8 8 *
SOURCE_IMAGE_ID "NAPP 10553 141" *
SOURCE_IMAGE_DATE 1998 8 23 *
SOURCE_IMAGE_ID "NAPP 10553 142" *
SOURCE_IMAGE_DATE 1998 8 23 *
SOURCE_IMAGE_ID "NAPP 10553 143" *
SOURCE_IMAGE_DATE 1998 8 23 *
SOURCE_DEM_DATE 2000 0 0 *
AGENCY "WESTERN MAPPING CENTER (WMC)" *
PRODUCER "USDA FS GEOSPATIAL SERVICE AND TECHNOLOGY CENTER" *
PRODUCTION_SYSTEM "ORBIT OR_RECTIFY V.5.2" *
STANDARD_VERSION 1996 12 *
METADATA_DATE 2001 12 31 *
DATA_FILE_SIZE 48364056 *
BYTE_COUNT 6357 * * * * * * * * * * * * * * * * * * * * *
END_USGS_HEADER *
