BEGIN_USGS_DOQ_HEADER *
QUADRANGLE_NAME "GIANT FOREST" 3.45 or 7.5-min. name*
QUADRANT NE quadrant indicator if cell size = 3.75-minutes*
WEST_LONGITUDE -118 48 45.000 signed deg min sec SDDD MM SS.SSS*
EAST_LONGITUDE -118 45 0.000 signed deg min sec SDDD MM SS.SSS*
NORTH_LATITUDE 36 37 30.000 signed deg min sec SDDD MM SS.SSS*
SOUTH_LATITUDE 36 33 45.000 signed deg min sec SDDD MM SS.SSS*
PRODUCTION_DATE 1998 1 26 yyyy mm dd*
RASTER_ORDER LEFT_RIGHT/TOP_BOTTOM video display order*
BAND_ORGANIZATION "SINGLE FILE" single file or BSQ, or BIL or BIP*
BAND_CONTENT BLACK&WHITE black&white or red green blue*
BITS_PER_PIXEL 8 radiometric resolution*
SAMPLES_AND_LINES 6406 7645 number of columns and rows*
HORIZONTAL_DATUM NAD83 primary horizontal datum*
HORIZONTAL_COORDINATE_SYSTEM UTM *
COORDINATE_ZONE 11 coordinate system zone number*
HORIZONTAL_UNITS METERS coordinate system units*
HORIZONTAL_RESOLUTION 1.00 pixel horiz. ground sample distance*
SECONDARY_HORIZONTAL_DATUM NAD27 secondary horizontal datum*
XY_ORIGIN 337419.000 4055104.000 coord. of upper left pixel pri. datum*
SECONDARY_XY_ORIGIN 337498.724 4054906.336 coord upper left pixel sec datum*
NATION US nation code*
STATE CA state fip code*
NW_QUAD_CORNER_XY 337934.511 4054803.270 XY coords. of pri. NW quad corner*
NE_QUAD_CORNER_XY 343523.490 4054699.579 XY coords. of pri. NE quad corner*
SE_QUAD_CORNER_XY 343397.200 4047765.782 XY coords. of pri. SE quad corner*
SW_QUAD_CORNER_XY 337803.706 4047869.404 XY coords. of pri. SW quad corner*
SECONDARY_NW_QUAD_XY 337930.599 4054601.118 XY coords. - sec. NW quad cor.*
SECONDARY_NE_QUAD_XY 343519.714 4054497.424 XY coords. - sec. NE quad cor.*
SECONDARY_SE_QUAD_XY 343393.427 4047563.795 XY coords. - sec. SE quad cor.*
SECONDARY_SW_QUAD_XY 337799.798 4047667.419 XY coords. - sec. SW quad cor.*
RMSE_XY 2.10 doq horiz. accuracy*
IMAGE_SOURCE "BLACK AND WHITE FILM" b&w, cir, natural color, other*
SOURCE_IMAGE_ID "NAPP 6314 071" source image id*
SOURCE_IMAGE_DATE 1993 9 28 source image date as yyyy mm dd*
IMAGE_SOURCE "BLACK AND WHITE FILM" b&w, cir, natural color, other*
SOURCE_IMAGE_ID "NAPP 6314 072" source image id*
SOURCE_IMAGE_DATE 1993 9 28 source image date as yyyy mm dd*
IMAGE_SOURCE "BLACK AND WHITE FILM" b&w, cir, natural color, other*
SOURCE_IMAGE_ID "NAPP 6314 070" source image id*
SOURCE_IMAGE_DATE 1993 9 28 source image date as yyyy mm dd*
SOURCE_DEM_DATE 1998 1 26 source dem date yyyy mm dd*
AGENCY "WESTERN MAPPING CENTER (WMC)" oversight agency*
PRODUCER "PHOTO SCIENCE INC." *
PRODUCTION_SYSTEM "GIS/MAGIC" production system*
STANDARD_VERSION 1996 12 version of DOQ standard*
METADATA_DATE 1998 3 23 date created or changed, yyyy mm dd*
DATA_FILE_SIZE 48980276 data set size in bytes*
BYTE_COUNT 6406 header byte count* * * * * * * * * * * * * * * * * * * * * * * * * * * * * * * *
END_USGS_HEADER *
