BEGIN_USGS_DOQ_HEADER *
QUADRANGLE_NAME "SHADEQUARTER MOUNTAIN" 3.45 or 7.5-min. name*
QUADRANT SW quadrant indicator if cell size = 3.75-minutes*
WEST_LONGITUDE -119 0 0.000 signed deg min sec SDDD MM SS.SSS*
EAST_LONGITUDE -118 56 15.000 signed deg min sec SDDD MM SS.SSS*
NORTH_LATITUDE 36 33 45.000 signed deg min sec SDDD MM SS.SSS*
SOUTH_LATITUDE 36 30 0.000 signed deg min sec SDDD MM SS.SSS*
PRODUCTION_DATE 1998 6 19 yyyy mm dd*
RASTER_ORDER LEFT_RIGHT/TOP_BOTTOM video display order*
BAND_ORGANIZATION "SINGLE FILE" single file or BSQ, or BIL or BIP*
BAND_CONTENT BLACK&WHITE black&white or red green blue*
BITS_PER_PIXEL 8 radiometric resolution*
SAMPLES_AND_LINES 6425 7656 number of columns and rows*
HORIZONTAL_DATUM NAD83 primary horizontal datum*
HORIZONTAL_COORDINATE_SYSTEM UTM *
COORDINATE_ZONE 11 coordinate system zone number*
HORIZONTAL_UNITS METERS coordinate system units*
HORIZONTAL_RESOLUTION 1.00 pixel horiz. ground sample distance*
SECONDARY_HORIZONTAL_DATUM NAD27 secondary horizontal datum*
XY_ORIGIN 320493.000 4048503.000 coord. of upper left pixel pri. datum*
SECONDARY_XY_ORIGIN 320572.764 4048305.014 coord upper left pixel sec datum*
NATION US nation code*
STATE CA state fip code*
NW_QUAD_CORNER_XY 321022.877 4048202.109 XY coords. of pri. NW quad corner*
NE_QUAD_CORNER_XY 326616.546 4048087.568 XY coords. of pri. NE quad corner*
SE_QUAD_CORNER_XY 326476.918 4041153.622 XY coords. of pri. SE quad corner*
SW_QUAD_CORNER_XY 320878.739 4041268.087 XY coords. of pri. SW quad corner*
SECONDARY_NW_QUAD_XY 321018.564 4048000.133 XY coords. - sec. NW quad cor.*
SECONDARY_NE_QUAD_XY 326612.368 4047885.588 XY coords. - sec. NE quad cor.*
SECONDARY_SE_QUAD_XY 326472.743 4040951.811 XY coords. - sec. SE quad cor.*
SECONDARY_SW_QUAD_XY 320874.430 4041066.279 XY coords. - sec. SW quad cor.*
RMSE_XY 3.30 doq horiz. accuracy*
IMAGE_SOURCE "BLACK AND WHITE FILM" b&w, cir, natural color, other*
SOURCE_IMAGE_ID "NAPP 6314 133" source image id*
SOURCE_IMAGE_DATE 1993 09 29 source image date as yyyy mm dd*
SOURCE_DEM_DATE 1997 01 01 source dem date yyyy mm dd*
AGENCY "WESTERN MAPPING CENTER (WMC)" oversight agency*
PRODUCER "SCIENCE APPLICATIONS INTERNATIONAL" producer/contractor*
PRODUCTION_SYSTEM "GIS/MAGIC" production system*
STANDARD_VERSION 1996 12 version of DOQ standard*
METADATA_DATE 1998 06 19 date created or changed, yyyy mm dd*
DATA_FILE_SIZE 49196225 data set size in bytes*
BYTE_COUNT 6425 header byte count* * * * * * * * * * * * * * * * * * * * * * * * * * * * * * * * * * * * * *
END_USGS_HEADER *
