BEGIN_USGS_DOQ_HEADER *
QUADRANGLE_NAME "UNION WASH" 3.45 or 7.5-min. name*
QUADRANT SW quadrant indicator if cell size = 3.75-minutes*
WEST_LONGITUDE -118 7 30.000 signed deg min sec SDDD MM SS.SSS*
EAST_LONGITUDE -118 3 45.000 signed deg min sec SDDD MM SS.SSS*
NORTH_LATITUDE 36 41 15.000 signed deg min sec SDDD MM SS.SSS*
SOUTH_LATITUDE 36 37 30.000 signed deg min sec SDDD MM SS.SSS*
PRODUCTION_DATE 1998 1 28 yyyy mm dd*
RASTER_ORDER LEFT_RIGHT/TOP_BOTTOM video display order*
BAND_ORGANIZATION "SINGLE FILE" single file or BSQ, or BIL or BIP*
BAND_CONTENT BLACK&WHITE black&white or red green blue*
BITS_PER_PIXEL 8 radiometric resolution*
SAMPLES_AND_LINES 6350 7607 number of columns and rows*
HORIZONTAL_DATUM NAD83 primary horizontal datum*
HORIZONTAL_COORDINATE_SYSTEM UTM *
COORDINATE_ZONE 11 coordinate system zone number*
HORIZONTAL_UNITS METERS coordinate system units*
HORIZONTAL_RESOLUTION 1.00 pixel horiz. ground sample distance*
SECONDARY_HORIZONTAL_DATUM NAD27 secondary horizontal datum*
XY_ORIGIN 399027.000 4061097.000 coord. of upper left pixel pri. datum*
SECONDARY_XY_ORIGIN 399107.200 4060901.154 coord upper left pixel sec datum*
NATION US nation code*
STATE CA state fip code*
NW_QUAD_CORNER_XY 399491.912 4060796.212 XY coords. of pri. NW quad corner*
NE_QUAD_CORNER_XY 405075.885 4060732.519 XY coords. of pri. NE quad corner*
SE_QUAD_CORNER_XY 404999.117 4053799.247 XY coords. of pri. SE quad corner*
SW_QUAD_CORNER_XY 399410.627 4053862.898 XY coords. of pri. SW quad corner*
SECONDARY_NW_QUAD_XY 399489.483 4060593.870 XY coords. - sec. NW quad cor.*
SECONDARY_NE_QUAD_XY 405073.591 4060530.175 XY coords. - sec. NE quad cor.*
SECONDARY_SE_QUAD_XY 404996.825 4053597.070 XY coords. - sec. SE quad cor.*
SECONDARY_SW_QUAD_XY 399408.200 4053660.723 XY coords. - sec. SW quad cor.*
RMSE_XY 1.20 doq horiz. accuracy*
IMAGE_SOURCE "BLACK AND WHITE FILM" b&w, cir, natural color, other*
SOURCE_IMAGE_ID "NAPP 6304 029" source image id*
SOURCE_IMAGE_DATE 1993 7 15 source image date as yyyy mm dd*
SOURCE_DEM_DATE 1998 1 28 source dem date yyyy mm dd*
AGENCY "WESTERN MAPPING CENTER (WMC)" oversight agency*
PRODUCER "SCIENCE APPLICATIONS INTERNATIONAL" *
PRODUCTION_SYSTEM "GIS/MAGIC" production system*
STANDARD_VERSION 1996 12 version of DOQ standard*
METADATA_DATE 1998 3 11 date created or changed, yyyy mm dd*
DATA_FILE_SIZE 48310800 data set size in bytes*
BYTE_COUNT 6350 header byte count* * * * * * * * * * * * * * * * * * * * * * * * * * * * * * * * * * * * *
END_USGS_HEADER *
