BEGIN_USGS_DOQ_HEADER *
QUADRANGLE_NAME "MOUNT SILLIMAN" *
QUADRANT NE *
WEST_LONGITUDE -118 41 15.000 *
EAST_LONGITUDE -118 37 30.000 *
NORTH_LATITUDE 36 45 0.000 *
SOUTH_LATITUDE 36 41 15.000 *
PRODUCTION_DATE 2001 9 17 *
RASTER_ORDER LEFT_RIGHT/TOP_BOTTOM *
BAND_ORGANIZATION "SINGLE FILE" *
BAND_CONTENT BLACK&WHITE *
BITS_PER_PIXEL 8 *
SAMPLES_AND_LINES 6385 7636 *
HORIZONTAL_DATUM NAD83 *
HORIZONTAL_COORDINATE_SYSTEM UTM *
COORDINATE_ZONE 11 *
HORIZONTAL_UNITS METERS *
HORIZONTAL_RESOLUTION 1.0 *
SECONDARY_HORIZONTAL_DATUM NAD27 *
XY_ORIGIN 348850.973 4068767.192 *
SECONDARY_XY_ORIGIN 348930.745 4068569.634 *
NATION US *
STATE CA *
NW_QUAD_CORNER_XY 349356.507 4068467.192 *
NE_QUAD_CORNER_XY 354936.333 4068370.657 *
SE_QUAD_CORNER_XY 354818.724 4061436.856 *
SW_QUAD_CORNER_XY 349234.372 4061533.327 *
SECONDARY_NW_QUAD_XY 349352.861 4068264.699 *
SECONDARY_NE_QUAD_XY 354932.821 4068168.162 *
SECONDARY_SE_QUAD_XY 354815.216 4061234.527 *
SECONDARY_SW_QUAD_XY 349230.728 4061331.001 *
RMSE_XY 1.54 *
IMAGE_SOURCE "BLACK AND WHITE FILM" *
SOURCE_IMAGE_ID "NAPP 10559 81" *
SOURCE_IMAGE_DATE 1998 9 12 *
SOURCE_IMAGE_ID "NAPP 10559 80" *
SOURCE_IMAGE_DATE 1998 9 12 *
SOURCE_IMAGE_ID "NAPP 10559 82" *
SOURCE_IMAGE_DATE 1998 9 12 *
SOURCE_IMAGE_ID "NAPP 10559 67" *
SOURCE_IMAGE_DATE 1998 9 12 *
SOURCE_IMAGE_ID "NAPP 10559 66" *
SOURCE_IMAGE_DATE 1998 9 12 *
SOURCE_IMAGE_ID "NAPP 10559 65" *
SOURCE_IMAGE_DATE 1998 9 12 *
SOURCE_DEM_DATE 2000 0 0 *
AGENCY "WESTERN MAPPING CENTER (WMC)" *
PRODUCER "USDA FS GEOSPATIAL SERVICE AND TECHNOLOGY CENTER" *
PRODUCTION_SYSTEM "ORBIT OR_RECTIFY V.5.2" *
STANDARD_VERSION 1996 12 *
METADATA_DATE 2001 9 17 *
DATA_FILE_SIZE 48762245 *
BYTE_COUNT 6385 * * * * * * * * * * * * * * * * * * * * * * * * * * *
END_USGS_HEADER *
