BEGIN_USGS_DOQ_HEADER *
QUADRANGLE_NAME "MUIR GROVE" 3.45 or 7.5-min. name*
QUADRANT SW quadrant indicator if cell size = 3.75-minutes*
WEST_LONGITUDE -118 52 30.000 signed deg min sec SDDD MM SS.SSS*
EAST_LONGITUDE -118 48 45.000 signed deg min sec SDDD MM SS.SSS*
NORTH_LATITUDE 36 41 15.000 signed deg min sec SDDD MM SS.SSS*
SOUTH_LATITUDE 36 37 30.000 signed deg min sec SDDD MM SS.SSS*
PRODUCTION_DATE 1997 4 14 yyyy mm dd*
RASTER_ORDER LEFT_RIGHT/TOP_BOTTOM video display order*
BAND_ORGANIZATION "SINGLE FILE" single file or BSQ, or BIL or BIP*
BAND_CONTENT BLACK&WHITE black&white or red green blue*
BITS_PER_PIXEL 8 radiometric resolution*
SAMPLES_AND_LINES 6407 7649 number of columns and rows*
HORIZONTAL_DATUM NAD83 primary horizontal datum*
HORIZONTAL_COORDINATE_SYSTEM UTM *
COORDINATE_ZONE 11 coordinate system zone number*
HORIZONTAL_UNITS METERS coordinate system units*
HORIZONTAL_RESOLUTION 1.00 pixel horiz. ground sample distance*
SECONDARY_HORIZONTAL_DATUM NAD27 secondary horizontal datum*
XY_ORIGIN 331960.000 4062145.000 coord. of upper left pixel pri. datum*
SECONDARY_XY_ORIGIN 332039.801 4061947.053 coord upper left pixel sec datum*
NATION US nation code*
STATE CA state fip code*
NW_QUAD_CORNER_XY 332480.995 4061844.605 XY coords. of pri. NW quad corner*
NE_QUAD_CORNER_XY 338065.509 4061737.202 XY coords. of pri. NE quad corner*
SE_QUAD_CORNER_XY 337934.511 4054803.270 XY coords. of pri. SE quad corner*
SW_QUAD_CORNER_XY 332345.475 4054910.603 XY coords. of pri. SW quad corner*
SECONDARY_NW_QUAD_XY 332476.945 4061642.288 XY coords. - sec. NW quad cor.*
SECONDARY_NE_QUAD_XY 338061.594 4061534.882 XY coords. - sec. NE quad cor.*
SECONDARY_SE_QUAD_XY 337930.599 4054601.118 XY coords. - sec. SE quad cor.*
SECONDARY_SW_QUAD_XY 332341.429 4054708.453 XY coords. - sec. SW quad cor.*
RMSE_XY 1.50 doq horiz. accuracy*
IMAGE_SOURCE "BLACK AND WHITE FILM" b&w, cir, natural color, other*
SOURCE_IMAGE_ID "NAPP 6314 058" source image id*
SOURCE_IMAGE_DATE 1993 9 29 source image date as yyyy mm dd*
IMAGE_SOURCE "BLACK AND WHITE FILM" b&w, cir, natural color, other*
SOURCE_IMAGE_ID "NAPP 6314 080" source image id*
SOURCE_IMAGE_DATE 1993 9 29 source image date as yyyy mm dd*
IMAGE_SOURCE "BLACK AND WHITE FILM" b&w, cir, natural color, other*
SOURCE_IMAGE_ID "NAPP 6314 057" source image id*
SOURCE_IMAGE_DATE 1993 9 29 source image date as yyyy mm dd*
SOURCE_DEM_DATE 1997 4 14 source dem date yyyy mm dd*
AGENCY "WESTERN MAPPING CENTER (WMC)" oversight agency*
PRODUCER "Science Applications International" producer/contractor*
PRODUCTION_SYSTEM "GIS/MAGIC" production system*
STANDARD_VERSION 1996 12 version of DOQ standard*
METADATA_DATE 1997 10 28 date created or changed, yyyy mm dd*
DATA_FILE_SIZE 49013550 data set size in bytes*
BYTE_COUNT 6407 header byte count* * * * * * * * * * * * * * * * * * * * * * * * * * * * * * * *
END_USGS_HEADER *
