BEGIN_USGS_DOQ_HEADER *
QUADRANGLE_NAME "GENERAL GRANT GROVE" *
QUADRANT NE *
WEST_LONGITUDE -118 56 15.000 *
EAST_LONGITUDE -118 52 30.000 *
NORTH_LATITUDE 36 45 0.000 *
SOUTH_LATITUDE 36 41 15.000 *
PRODUCTION_DATE 2001 9 17 *
RASTER_ORDER LEFT_RIGHT/TOP_BOTTOM *
BAND_ORGANIZATION "SINGLE FILE" *
BAND_CONTENT BLACK&WHITE *
BITS_PER_PIXEL 8 *
SAMPLES_AND_LINES 6404 7650 *
HORIZONTAL_DATUM NAD83 *
HORIZONTAL_COORDINATE_SYSTEM UTM *
COORDINATE_ZONE 11 *
HORIZONTAL_UNITS METERS *
HORIZONTAL_RESOLUTION 1.0 *
SECONDARY_HORIZONTAL_DATUM NAD27 *
XY_ORIGIN 326512.391 4069189.793 *
SECONDARY_XY_ORIGIN 326592.299 4068991.571 *
NATION US *
STATE CA *
NW_QUAD_CORNER_XY 327036.672 4068889.793 *
NE_QUAD_CORNER_XY 332616.715 4068778.672 *
SE_QUAD_CORNER_XY 332480.995 4061844.605 *
SW_QUAD_CORNER_XY 326896.424 4061955.653 *
SECONDARY_NW_QUAD_XY 327032.487 4068687.311 *
SECONDARY_NE_QUAD_XY 332612.664 4068576.188 *
SECONDARY_SE_QUAD_XY 332476.948 4061642.287 *
SECONDARY_SW_QUAD_XY 326892.241 4061753.338 *
RMSE_XY 1.54 *
IMAGE_SOURCE "BLACK AND WHITE FILM" *
SOURCE_IMAGE_ID "NAPP 10566 94" *
SOURCE_IMAGE_DATE 1999 3 30 *
SOURCE_IMAGE_ID "NAPP 10566 93" *
SOURCE_IMAGE_DATE 1999 3 30 *
SOURCE_IMAGE_ID "NAPP 10566 95" *
SOURCE_IMAGE_DATE 1999 3 30 *
SOURCE_IMAGE_ID "NAPP 10566 80" *
SOURCE_IMAGE_DATE 1999 3 30 *
SOURCE_IMAGE_ID "NAPP 10566 79" *
SOURCE_IMAGE_DATE 1999 3 30 *
SOURCE_IMAGE_ID "NAPP 10566 78" *
SOURCE_IMAGE_DATE 1999 3 30 *
SOURCE_IMAGE_ID "NAPP 10559 37" *
SOURCE_IMAGE_DATE 1998 9 12 *
SOURCE_IMAGE_ID "NAPP 10559 36" *
SOURCE_IMAGE_DATE 1998 9 12 *
SOURCE_IMAGE_ID "NAPP 10559 35" *
SOURCE_IMAGE_DATE 1998 9 12 *
SOURCE_DEM_DATE 2000 0 0 *
AGENCY "WESTERN MAPPING CENTER (WMC)" *
PRODUCER "USDA FS GEOSPATIAL SERVICE AND TECHNOLOGY CENTER" *
PRODUCTION_SYSTEM "ORBIT OR_RECTIFY V.5.2" *
STANDARD_VERSION 1996 12 *
METADATA_DATE 2001 9 17 *
DATA_FILE_SIZE 48997004 *
BYTE_COUNT 6404 * * * * * * * * * * * * * * * * * * * * * *
END_USGS_HEADER *
