BEGIN_USGS_DOQ_HEADER *
QUADRANGLE_NAME "BEE SPRINGS CANYON" *
QUADRANT SW *
WEST_LONGITUDE -118 7 30.000 *
EAST_LONGITUDE -118 3 45.000 *
NORTH_LATITUDE 36 48 45.000 *
SOUTH_LATITUDE 36 45 0.000 *
PRODUCTION_DATE 2001 12 19 *
RASTER_ORDER LEFT_RIGHT/TOP_BOTTOM *
BAND_ORGANIZATION "SINGLE FILE" *
BAND_CONTENT BLACK&WHITE *
BITS_PER_PIXEL 8 *
SAMPLES_AND_LINES 6339 7604 *
HORIZONTAL_DATUM NAD83 *
HORIZONTAL_COORDINATE_SYSTEM UTM *
COORDINATE_ZONE 11 *
HORIZONTAL_UNITS METERS *
HORIZONTAL_RESOLUTION 1.0 *
SECONDARY_HORIZONTAL_DATUM NAD27 *
XY_ORIGIN 399190.629 4074963.050 *
SECONDARY_XY_ORIGIN 399270.865 4074766.939 *
NATION US *
STATE CA *
NW_QUAD_CORNER_XY 399654.842 4074663.050 *
NE_QUAD_CORNER_XY 405229.760 4074599.274 *
SE_QUAD_CORNER_XY 405152.766 4067665.861 *
SW_QUAD_CORNER_XY 399573.317 4067729.596 *
SECONDARY_NW_QUAD_XY 399652.412 4074460.376 *
SECONDARY_NE_QUAD_XY 405227.465 4074396.599 *
SECONDARY_SE_QUAD_XY 405150.473 4067463.351 *
SECONDARY_SW_QUAD_XY 399570.889 4067527.088 *
RMSE_XY 3.18 *
IMAGE_SOURCE "BLACK AND WHITE FILM" *
SOURCE_IMAGE_ID "NAPP 10553 148" *
SOURCE_IMAGE_DATE 1998 8 23 *
SOURCE_IMAGE_ID "NAPP 10553 147" *
SOURCE_IMAGE_DATE 1998 8 23 *
SOURCE_IMAGE_ID "NAPP 10553 149" *
SOURCE_IMAGE_DATE 1998 8 23 *
SOURCE_IMAGE_ID "NAPP 10567 35" *
SOURCE_IMAGE_DATE 1999 7 31 *
SOURCE_IMAGE_ID "NAPP 10567 34" *
SOURCE_IMAGE_DATE 1999 7 31 *
SOURCE_IMAGE_ID "NAPP 10567 33" *
SOURCE_IMAGE_DATE 1999 7 31 *
SOURCE_IMAGE_ID "NAPP 10569 200" *
SOURCE_IMAGE_DATE 1999 8 8 *
SOURCE_IMAGE_ID "NAPP 10569 199" *
SOURCE_IMAGE_DATE 1999 8 8 *
SOURCE_IMAGE_ID "NAPP 10569 198" *
SOURCE_IMAGE_DATE 1999 8 8 *
SOURCE_DEM_DATE 2000 0 0 *
AGENCY "WESTERN MAPPING CENTER (WMC)" *
PRODUCER "USDA FS GEOSPATIAL SERVICE AND TECHNOLOGY CENTER" *
PRODUCTION_SYSTEM "ORBIT OR_RECTIFY V.5.2" *
STANDARD_VERSION 1996 12 *
METADATA_DATE 2001 12 31 *
DATA_FILE_SIZE 48208095 *
BYTE_COUNT 6339 * * * * * * * * * * * * * * * * * * * * *
END_USGS_HEADER *
