BEGIN_USGS_DOQ_HEADER *
QUADRANGLE_NAME "INDEPENDENCE" *
QUADRANT NW *
WEST_LONGITUDE -118 15 0.000 *
EAST_LONGITUDE -118 11 15.000 *
NORTH_LATITUDE 36 52 30.000 *
SOUTH_LATITUDE 36 48 45.000 *
PRODUCTION_DATE 2001 12 19 *
RASTER_ORDER LEFT_RIGHT/TOP_BOTTOM *
BAND_ORGANIZATION "SINGLE FILE" *
BAND_CONTENT BLACK&WHITE *
BITS_PER_PIXEL 8 *
SAMPLES_AND_LINES 6344 7611 *
HORIZONTAL_DATUM NAD83 *
HORIZONTAL_COORDINATE_SYSTEM UTM *
COORDINATE_ZONE 11 *
HORIZONTAL_UNITS METERS *
HORIZONTAL_RESOLUTION 1.0 *
SECONDARY_HORIZONTAL_DATUM NAD27 *
XY_ORIGIN 388121.817 4082035.153 *
SECONDARY_XY_ORIGIN 388202.181 4081838.616 *
NATION US *
STATE CA *
NW_QUAD_CORNER_XY 388595.622 4081735.153 *
NE_QUAD_CORNER_XY 394166.072 4081664.040 *
SE_QUAD_CORNER_XY 394079.890 4074730.472 *
SW_QUAD_CORNER_XY 388504.902 4074801.540 *
SECONDARY_NW_QUAD_XY 388592.916 4081532.317 *
SECONDARY_NE_QUAD_XY 394163.504 4081461.202 *
SECONDARY_SE_QUAD_XY 394077.324 4074527.800 *
SECONDARY_SW_QUAD_XY 388502.198 4074598.868 *
RMSE_XY 3.18 *
IMAGE_SOURCE "BLACK AND WHITE FILM" *
SOURCE_IMAGE_ID "NAPP 10553 180" *
SOURCE_IMAGE_DATE 1998 8 23 *
SOURCE_IMAGE_ID "NAPP 10553 179" *
SOURCE_IMAGE_DATE 1998 8 23 *
SOURCE_IMAGE_ID "NAPP 10553 181" *
SOURCE_IMAGE_DATE 1998 8 23 *
SOURCE_IMAGE_ID "NAPP 10567 47" *
SOURCE_IMAGE_DATE 1999 7 31 *
SOURCE_IMAGE_ID "NAPP 10567 48" *
SOURCE_IMAGE_DATE 1999 7 31 *
SOURCE_IMAGE_ID "NAPP 10567 49" *
SOURCE_IMAGE_DATE 1999 7 31 *
SOURCE_IMAGE_ID "NAPP 10567 33" *
SOURCE_IMAGE_DATE 1999 7 31 *
SOURCE_IMAGE_ID "NAPP 10567 32" *
SOURCE_IMAGE_DATE 1999 7 31 *
SOURCE_IMAGE_ID "NAPP 10567 31" *
SOURCE_IMAGE_DATE 1999 7 31 *
SOURCE_DEM_DATE 1997 0 0 *
AGENCY "WESTERN MAPPING CENTER (WMC)" *
PRODUCER "USDA FS GEOSPATIAL SERVICE AND TECHNOLOGY CENTER" *
PRODUCTION_SYSTEM "ORBIT OR_RECTIFY V.5.2" *
STANDARD_VERSION 1996 12 *
METADATA_DATE 2001 12 31 *
DATA_FILE_SIZE 48290528 *
BYTE_COUNT 6344 * * * * * * * * * * * * * * * * * * * * *
END_USGS_HEADER *
