BEGIN_USGS_DOQ_HEADER *
QUADRANGLE_NAME "KEARSARGE PEAK" *
QUADRANT SE *
WEST_LONGITUDE -118 18 45.000 *
EAST_LONGITUDE -118 15 0.000 *
NORTH_LATITUDE 36 48 45.000 *
SOUTH_LATITUDE 36 45 0.000 *
PRODUCTION_DATE 2001 12 19 *
RASTER_ORDER LEFT_RIGHT/TOP_BOTTOM *
BAND_ORGANIZATION "SINGLE FILE" *
BAND_CONTENT BLACK&WHITE *
BITS_PER_PIXEL 8 *
SAMPLES_AND_LINES 6353 7615 *
HORIZONTAL_DATUM NAD83 *
HORIZONTAL_COORDINATE_SYSTEM UTM *
COORDINATE_ZONE 11 *
HORIZONTAL_UNITS METERS *
HORIZONTAL_RESOLUTION 1.0 *
SECONDARY_HORIZONTAL_DATUM NAD27 *
XY_ORIGIN 382451.638 4075176.254 *
SECONDARY_XY_ORIGIN 382531.908 4074979.775 *
NATION US *
STATE CA *
NW_QUAD_CORNER_XY 382929.876 4074876.254 *
NE_QUAD_CORNER_XY 388504.902 4074801.540 *
SE_QUAD_CORNER_XY 388414.315 4067867.996 *
SW_QUAD_CORNER_XY 382834.757 4067942.662 *
SECONDARY_NW_QUAD_XY 382927.037 4074673.584 *
SECONDARY_NE_QUAD_XY 388502.198 4074598.868 *
SECONDARY_SE_QUAD_XY 388411.613 4067665.489 *
SECONDARY_SW_QUAD_XY 382831.921 4067740.157 *
RMSE_XY 3.18 *
IMAGE_SOURCE "BLACK AND WHITE FILM" *
SOURCE_IMAGE_ID "NAPP 10567 46" *
SOURCE_IMAGE_DATE 1999 7 31 *
SOURCE_IMAGE_ID "NAPP 10569 213" *
SOURCE_IMAGE_DATE 1999 8 8 *
SOURCE_IMAGE_ID "NAPP 10567 47" *
SOURCE_IMAGE_DATE 1999 7 31 *
SOURCE_IMAGE_ID "NAPP 10560 43" *
SOURCE_IMAGE_DATE 1998 9 12 *
SOURCE_IMAGE_ID "NAPP 10560 44" *
SOURCE_IMAGE_DATE 1998 9 12 *
SOURCE_IMAGE_ID "NAPP 10560 45" *
SOURCE_IMAGE_DATE 1998 9 12 *
SOURCE_IMAGE_ID "NAPP 10553 177" *
SOURCE_IMAGE_DATE 1998 8 23 *
SOURCE_IMAGE_ID "NAPP 10553 178" *
SOURCE_IMAGE_DATE 1998 8 23 *
SOURCE_IMAGE_ID "NAPP 10553 179" *
SOURCE_IMAGE_DATE 1998 8 23 *
SOURCE_DEM_DATE 2000 0 0 *
AGENCY "WESTERN MAPPING CENTER (WMC)" *
PRODUCER "USDA FS GEOSPATIAL SERVICE AND TECHNOLOGY CENTER" *
PRODUCTION_SYSTEM "ORBIT OR_RECTIFY V.5.2" *
STANDARD_VERSION 1996 12 *
METADATA_DATE 2001 12 31 *
DATA_FILE_SIZE 48384448 *
BYTE_COUNT 6353 * * * * * * * * * * * * * * * * * * * * *
END_USGS_HEADER *
