BEGIN_USGS_DOQ_HEADER *
QUADRANGLE_NAME "THE SPHINX" 3.45 or 7.5-min. name*
QUADRANT SW quadrant indicator if cell size = 3.75-minutes*
WEST_LONGITUDE -118 37 30.000 signed deg min sec SDDD MM SS.SSS*
EAST_LONGITUDE -118 33 45.000 signed deg min sec SDDD MM SS.SSS*
NORTH_LATITUDE 36 48 45.000 signed deg min sec SDDD MM SS.SSS*
SOUTH_LATITUDE 36 45 0.000 signed deg min sec SDDD MM SS.SSS*
PRODUCTION_DATE 1998 1 26 yyyy mm dd*
RASTER_ORDER LEFT_RIGHT/TOP_BOTTOM video display order*
BAND_ORGANIZATION "SINGLE FILE" single file or BSQ, or BIL or BIP*
BAND_CONTENT BLACK&WHITE black&white or red green blue*
BITS_PER_PIXEL 8 radiometric resolution*
SAMPLES_AND_LINES 6380 7635 number of columns and rows*
HORIZONTAL_DATUM NAD83 primary horizontal datum*
HORIZONTAL_COORDINATE_SYSTEM UTM *
COORDINATE_ZONE 11 coordinate system zone number*
HORIZONTAL_UNITS METERS coordinate system units*
HORIZONTAL_RESOLUTION 1.00 pixel horiz. ground sample distance*
SECONDARY_HORIZONTAL_DATUM NAD27 secondary horizontal datum*
XY_ORIGIN 354551.000 4075605.000 coord. of upper left pixel pri. datum*
SECONDARY_XY_ORIGIN 354630.846 4075407.586 coord upper left pixel sec datum*
NATION US nation code*
STATE CA state fip code*
NW_QUAD_CORNER_XY 355054.115 4075304.526 XY coords. of pri. NW quad corner*
NE_QUAD_CORNER_XY 360629.357 4075211.577 XY coords. of pri. NE quad corner*
SE_QUAD_CORNER_XY 360516.109 4068277.768 XY coords. of pri. SE quad corner*
SW_QUAD_CORNER_XY 354936.333 4068370.657 XY coords. of pri. SW quad corner*
SECONDARY_NW_QUAD_XY 355050.599 4075101.868 XY coords. - sec. NW quad cor.*
SECONDARY_NE_QUAD_XY 360625.977 4075008.917 XY coords. - sec. NE quad cor.*
SECONDARY_SE_QUAD_XY 360512.732 4068075.273 XY coords. - sec. SE quad cor.*
SECONDARY_SW_QUAD_XY 354932.821 4068168.165 XY coords. - sec. SW quad cor.*
RMSE_XY 1.90 doq horiz. accuracy*
IMAGE_SOURCE "BLACK AND WHITE FILM" b&w, cir, natural color, other*
SOURCE_IMAGE_ID "NAPP 6313 191" source image id*
SOURCE_IMAGE_DATE 1993 9 27 source image date as yyyy mm dd*
SOURCE_DEM_DATE 1998 1 26 source dem date yyyy mm dd*
AGENCY "WESTERN MAPPING CENTER (WMC)" oversight agency*
PRODUCER "PHOTO SCIENCE INC." *
PRODUCTION_SYSTEM "GIS/MAGIC" production system*
STANDARD_VERSION 1996 12 version of DOQ standard*
METADATA_DATE 1998 3 23 date created or changed, yyyy mm dd*
DATA_FILE_SIZE 48717680 data set size in bytes*
BYTE_COUNT 6380 header byte count* * * * * * * * * * * * * * * * * * * * * * * * * * * * * * * * * * * * *
END_USGS_HEADER *
