BEGIN_USGS_DOQ_HEADER *
QUADRANGLE_NAME "HUME" 3.45 or 7.5-min. name*
QUADRANT NE quadrant indicator if cell size = 3.75-minutes*
WEST_LONGITUDE -118 56 15.000 signed deg min sec SDDD MM SS.SSS*
EAST_LONGITUDE -118 52 30.000 signed deg min sec SDDD MM SS.SSS*
NORTH_LATITUDE 36 52 30.000 signed deg min sec SDDD MM SS.SSS*
SOUTH_LATITUDE 36 48 45.000 signed deg min sec SDDD MM SS.SSS*
PRODUCTION_DATE 1997 4 14 yyyy mm dd*
RASTER_ORDER LEFT_RIGHT/TOP_BOTTOM video display order*
BAND_ORGANIZATION "SINGLE FILE" single file or BSQ, or BIL or BIP*
BAND_CONTENT BLACK&WHITE black&white or red green blue*
BITS_PER_PIXEL 8 radiometric resolution*
SAMPLES_AND_LINES 6398 7653 number of columns and rows*
HORIZONTAL_DATUM NAD83 primary horizontal datum*
HORIZONTAL_COORDINATE_SYSTEM UTM *
COORDINATE_ZONE 11 coordinate system zone number*
HORIZONTAL_UNITS METERS coordinate system units*
HORIZONTAL_RESOLUTION 1.00 pixel horiz. ground sample distance*
SECONDARY_HORIZONTAL_DATUM NAD27 secondary horizontal datum*
XY_ORIGIN 326792.000 4083059.000 coord. of upper left pixel pri. datum*
SECONDARY_XY_ORIGIN 326871.901 4082860.552 coord upper left pixel sec datum*
NATION US nation code*
STATE CA state fip code*
NW_QUAD_CORNER_XY 327317.788 4082758.266 XY coords. of pri. NW quad corner*
NE_QUAD_CORNER_XY 332888.753 4082647.003 XY coords. of pri. NE quad corner*
SE_QUAD_CORNER_XY 332752.634 4075712.805 XY coords. of pri. SE quad corner*
SW_QUAD_CORNER_XY 327177.127 4075823.997 XY coords. of pri. SW quad corner*
SECONDARY_NW_QUAD_XY 327313.593 4082555.456 XY coords. - sec. NW quad cor.*
SECONDARY_NE_QUAD_XY 332884.693 4082444.190 XY coords. - sec. NE quad cor.*
SECONDARY_SE_QUAD_XY 332748.578 4075510.157 XY coords. - sec. SE quad cor.*
SECONDARY_SW_QUAD_XY 327172.935 4075621.351 XY coords. - sec. SW quad cor.*
RMSE_XY 4.10 doq horiz. accuracy*
IMAGE_SOURCE "BLACK AND WHITE FILM" b&w, cir, natural color, other*
SOURCE_IMAGE_ID "NAPP 6314 086" source image id*
SOURCE_IMAGE_DATE 1993 9 29 source image date as yyyy mm dd*
IMAGE_SOURCE "BLACK AND WHITE FILM" b&w, cir, natural color, other*
SOURCE_IMAGE_ID "NAPP 6314 087" source image id*
SOURCE_IMAGE_DATE 1993 9 29 source image date as yyyy mm dd*
IMAGE_SOURCE "BLACK AND WHITE FILM" b&w, cir, natural color, other*
SOURCE_IMAGE_ID "NAPP 6314 089" source image id*
SOURCE_IMAGE_DATE 1993 9 29 source image date as yyyy mm dd*
IMAGE_SOURCE "BLACK AND WHITE FILM" b&w, cir, natural color, other*
SOURCE_IMAGE_ID "NAPP 6314 144" source image id*
SOURCE_IMAGE_DATE 1993 9 29 source image date as yyyy mm dd*
SOURCE_DEM_DATE 1997 4 14 source dem date yyyy mm dd*
AGENCY "WESTERN MAPPING CENTER (WMC)" oversight agency*
PRODUCER "Science Applications International" producer/contractor*
PRODUCTION_SYSTEM "GIS/MAGIC" production system*
STANDARD_VERSION 1996 12 version of DOQ standard*
METADATA_DATE 1997 10 28 date created or changed, yyyy mm dd*
DATA_FILE_SIZE 48970292 data set size in bytes*
BYTE_COUNT 6398 header byte count* * * * * * * * * * * * * * * * * * * * * * * * * * * *
END_USGS_HEADER *
