BEGIN_USGS_DOQ_HEADER *
QUADRANGLE_NAME "HUME" *
QUADRANT SW *
WEST_LONGITUDE -119 0 0.000 *
EAST_LONGITUDE -118 56 15.000 *
NORTH_LATITUDE 36 48 45.000 *
SOUTH_LATITUDE 36 45 0.000 *
PRODUCTION_DATE 2001 9 17 *
RASTER_ORDER LEFT_RIGHT/TOP_BOTTOM *
BAND_ORGANIZATION "SINGLE FILE" *
BAND_CONTENT BLACK&WHITE *
BITS_PER_PIXEL 8 *
SAMPLES_AND_LINES 6405 7653 *
HORIZONTAL_DATUM NAD83 *
HORIZONTAL_COORDINATE_SYSTEM UTM *
COORDINATE_ZONE 11 *
HORIZONTAL_UNITS METERS *
HORIZONTAL_RESOLUTION 1.0 *
SECONDARY_HORIZONTAL_DATUM NAD27 *
XY_ORIGIN 321072.286 4076238.839 *
SECONDARY_XY_ORIGIN 321152.248 4076040.342 *
NATION US *
STATE CA *
NW_QUAD_CORNER_XY 321601.562 4075938.839 *
NE_QUAD_CORNER_XY 327177.127 4075823.997 *
SE_QUAD_CORNER_XY 327036.672 4068889.793 *
SW_QUAD_CORNER_XY 321456.571 4069004.560 *
SECONDARY_NW_QUAD_XY 321597.238 4075736.195 *
SECONDARY_NE_QUAD_XY 327172.938 4075621.350 *
SECONDARY_SE_QUAD_XY 327032.487 4068687.311 *
SECONDARY_SW_QUAD_XY 321452.250 4068802.082 *
RMSE_XY 1.54 *
IMAGE_SOURCE "BLACK AND WHITE FILM" *
SOURCE_IMAGE_ID "NAPP 10566 77" *
SOURCE_IMAGE_DATE 1999 3 30 *
SOURCE_IMAGE_ID "NAPP 10566 78" *
SOURCE_IMAGE_DATE 1999 3 30 *
SOURCE_IMAGE_ID "NAPP 10566 76" *
SOURCE_IMAGE_DATE 1999 3 30 *
SOURCE_IMAGE_ID "NAPP 10549 207" *
SOURCE_IMAGE_DATE 1998 8 20 *
SOURCE_IMAGE_ID "NAPP 10549 208" *
SOURCE_IMAGE_DATE 1998 8 20 *
SOURCE_IMAGE_ID "NAPP 10549 209" *
SOURCE_IMAGE_DATE 1998 8 20 *
SOURCE_IMAGE_ID "NAPP 10566 95" *
SOURCE_IMAGE_DATE 1999 3 30 *
SOURCE_IMAGE_ID "NAPP 10566 96" *
SOURCE_IMAGE_DATE 1999 3 30 *
SOURCE_IMAGE_ID "NAPP 10566 97" *
SOURCE_IMAGE_DATE 1999 3 30 *
SOURCE_DEM_DATE 2000 0 0 *
AGENCY "WESTERN MAPPING CENTER (WMC)" *
PRODUCER "USDA FS GEOSPATIAL SERVICE AND TECHNOLOGY CENTER" *
PRODUCTION_SYSTEM "ORBIT OR_RECTIFY V.5.2" *
STANDARD_VERSION 1996 12 *
METADATA_DATE 2001 9 17 *
DATA_FILE_SIZE 49023870 *
BYTE_COUNT 6405 * * * * * * * * * * * * * * * * * * * * * *
END_USGS_HEADER *
