BEGIN_USGS_DOQ_HEADER *
QUADRANGLE_NAME "MAZOURKA PEAK" 3.45 or 7.5-min. name*
QUADRANT SW quadrant indicator if cell size = 3.75-minutes*
WEST_LONGITUDE -118 7 30.000 signed deg min sec SDDD MM SS.SSS*
EAST_LONGITUDE -118 3 45.000 signed deg min sec SDDD MM SS.SSS*
NORTH_LATITUDE 36 56 15.000 signed deg min sec SDDD MM SS.SSS*
SOUTH_LATITUDE 36 52 30.000 signed deg min sec SDDD MM SS.SSS*
PRODUCTION_DATE 1998 1 29 yyyy mm dd*
RASTER_ORDER LEFT_RIGHT/TOP_BOTTOM video display order*
BAND_ORGANIZATION "SINGLE FILE" single file or BSQ, or BIL or BIP*
BAND_CONTENT BLACK&WHITE black&white or red green blue*
BITS_PER_PIXEL 8 radiometric resolution*
SAMPLES_AND_LINES 6334 7607 number of columns and rows*
HORIZONTAL_DATUM NAD83 primary horizontal datum*
HORIZONTAL_COORDINATE_SYSTEM UTM *
COORDINATE_ZONE 11 coordinate system zone number*
HORIZONTAL_UNITS METERS coordinate system units*
HORIZONTAL_RESOLUTION 1.00 pixel horiz. ground sample distance*
SECONDARY_HORIZONTAL_DATUM NAD27 secondary horizontal datum*
XY_ORIGIN 399352.000 4088831.000 coord. of upper left pixel pri. datum*
SECONDARY_XY_ORIGIN 399432.175 4088634.541 coord upper left pixel sec datum*
NATION US nation code*
STATE CA state fip code*
NW_QUAD_CORNER_XY 399818.251 4088530.169 XY coords. of pri. NW quad corner*
NE_QUAD_CORNER_XY 405384.088 4088466.312 XY coords. of pri. NE quad corner*
SE_QUAD_CORNER_XY 405306.867 4081532.758 XY coords. of pri. SE quad corner*
SW_QUAD_CORNER_XY 399736.486 4081596.575 XY coords. of pri. SW quad corner*
SECONDARY_NW_QUAD_XY 399815.813 4088327.167 XY coords. - sec. NW quad cor.*
SECONDARY_NE_QUAD_XY 405381.786 4088263.308 XY coords. - sec. NE quad cor.*
SECONDARY_SE_QUAD_XY 405304.567 4081329.918 XY coords. - sec. SE quad cor.*
SECONDARY_SW_QUAD_XY 399734.051 4081393.737 XY coords. - sec. SW quad cor.*
RMSE_XY 1.70 doq horiz. accuracy*
IMAGE_SOURCE "BLACK AND WHITE FILM" b&w, cir, natural color, other*
SOURCE_IMAGE_ID "NAPP 6304 062" source image id*
SOURCE_IMAGE_DATE 1993 7 15 source image date as yyyy mm dd*
IMAGE_SOURCE "BLACK AND WHITE FILM" b&w, cir, natural color, other*
SOURCE_IMAGE_ID "NAPP 6304 022" source image id*
SOURCE_IMAGE_DATE 1993 7 15 source image date as yyyy mm dd*
IMAGE_SOURCE "BLACK AND WHITE FILM" b&w, cir, natural color, other*
SOURCE_IMAGE_ID "NAPP 6304 064" source image id*
SOURCE_IMAGE_DATE 1993 7 15 source image date as yyyy mm dd*
SOURCE_DEM_DATE 1998 1 29 source dem date yyyy mm dd*
AGENCY "WESTERN MAPPING CENTER (WMC)" oversight agency*
PRODUCER "SCIENCE APPLICATIONS INTERNATIONAL" *
PRODUCTION_SYSTEM "GIS/MAGIC" production system*
STANDARD_VERSION 1996 12 version of DOQ standard*
METADATA_DATE 1998 3 11 date created or changed, yyyy mm dd*
DATA_FILE_SIZE 48189072 data set size in bytes*
BYTE_COUNT 6334 header byte count* * * * * * * * * * * * * * * * * * * * * * * * * * * * * * *
END_USGS_HEADER *
