BEGIN_USGS_DOQ_HEADER *
QUADRANGLE_NAME "SLIDE BLUFFS" *
QUADRANT NW *
WEST_LONGITUDE -118 45 0.000 *
EAST_LONGITUDE -118 41 15.000 *
NORTH_LATITUDE 37 0 0.000 *
SOUTH_LATITUDE 36 56 15.000 *
PRODUCTION_DATE 2001 10 9 *
RASTER_ORDER LEFT_RIGHT/TOP_BOTTOM *
BAND_ORGANIZATION "SINGLE FILE" *
BAND_CONTENT BLACK&WHITE *
BITS_PER_PIXEL 8 *
SAMPLES_AND_LINES 6369 7636 *
HORIZONTAL_DATUM NAD83 *
HORIZONTAL_COORDINATE_SYSTEM UTM *
COORDINATE_ZONE 11 *
HORIZONTAL_UNITS METERS *
HORIZONTAL_RESOLUTION 1.0 *
SECONDARY_HORIZONTAL_DATUM NAD27 *
XY_ORIGIN 343776.179 4096601.754 *
SECONDARY_XY_ORIGIN 343855.974 4096403.719 *
NATION US *
STATE CA *
NW_QUAD_CORNER_XY 344285.145 4096303.754 *
NE_QUAD_CORNER_XY 349846.846 4096203.317 *
SE_QUAD_CORNER_XY 349723.992 4089269.186 *
SW_QUAD_CORNER_XY 344157.738 4089369.559 *
SECONDARY_NW_QUAD_XY 344281.353 4096100.607 *
SECONDARY_NE_QUAD_XY 349843.188 4096000.168 *
SECONDARY_SE_QUAD_XY 349720.337 4089066.200 *
SECONDARY_SW_QUAD_XY 344153.948 4089166.575 *
RMSE_XY 1.96 *
IMAGE_SOURCE "BLACK AND WHITE FILM" *
SOURCE_IMAGE_ID "NAPP 10559 58" *
SOURCE_IMAGE_DATE 1998 9 12 *
SOURCE_IMAGE_ID "NAPP 10559 59" *
SOURCE_IMAGE_DATE 1998 9 12 *
SOURCE_IMAGE_ID "NAPP 10567 137" *
SOURCE_IMAGE_DATE 1999 8 1 *
SOURCE_IMAGE_ID "NAPP 10559 54" *
SOURCE_IMAGE_DATE 1998 9 12 *
SOURCE_IMAGE_ID "NAPP 10559 55" *
SOURCE_IMAGE_DATE 1998 9 12 *
SOURCE_IMAGE_ID "NAPP 10567 136" *
SOURCE_IMAGE_DATE 1999 8 1 *
SOURCE_IMAGE_ID "NAPP 10570 3" *
SOURCE_IMAGE_DATE 1999 8 12 *
SOURCE_IMAGE_ID "NAPP 10570 2" *
SOURCE_IMAGE_DATE 1999 8 12 *
SOURCE_IMAGE_ID "NAPP 10570 1" *
SOURCE_IMAGE_DATE 1999 8 12 *
SOURCE_DEM_DATE 2000 0 0 *
AGENCY "WESTERN MAPPING CENTER (WMC)" *
PRODUCER "USDA FS GEOSPATIAL SERVICE AND TECHNOLOGY CENTER" *
PRODUCTION_SYSTEM "ORBIT OR_RECTIFY V.5.2" *
STANDARD_VERSION 1996 12 *
METADATA_DATE 2001 10 11 *
DATA_FILE_SIZE 48640053 *
BYTE_COUNT 6369 * * * * * * * * * * * * * * * * * * * * *
END_USGS_HEADER *
