BEGIN_USGS_DOQ_HEADER *
QUADRANGLE_NAME "SLIDE BLUFFS" 3.45 or 7.5-min. name*
QUADRANT SW quadrant indicator if cell size = 3.75-minutes*
WEST_LONGITUDE -118 45 0.000 signed deg min sec SDDD MM SS.SSS*
EAST_LONGITUDE -118 41 15.000 signed deg min sec SDDD MM SS.SSS*
NORTH_LATITUDE 36 56 15.000 signed deg min sec SDDD MM SS.SSS*
SOUTH_LATITUDE 36 52 30.000 signed deg min sec SDDD MM SS.SSS*
PRODUCTION_DATE 1998 5 18 yyyy mm dd*
RASTER_ORDER LEFT_RIGHT/TOP_BOTTOM video display order*
BAND_ORGANIZATION "SINGLE FILE" single file or BSQ, or BIL or BIP*
BAND_CONTENT BLACK&WHITE black&white or red green blue*
BITS_PER_PIXEL 8 radiometric resolution*
SAMPLES_AND_LINES 6380 7643 number of columns and rows*
HORIZONTAL_DATUM NAD83 primary horizontal datum*
HORIZONTAL_COORDINATE_SYSTEM UTM *
COORDINATE_ZONE 11 coordinate system zone number*
HORIZONTAL_UNITS METERS coordinate system units*
HORIZONTAL_RESOLUTION 1.00 pixel horiz. ground sample distance*
SECONDARY_HORIZONTAL_DATUM NAD27 secondary horizontal datum*
XY_ORIGIN 343645.000 4089670.000 coord. of upper left pixel pri. datum*
SECONDARY_XY_ORIGIN 343724.763 4089472.023 coord upper left pixel sec datum*
NATION US nation code*
STATE CA state fip code*
NW_QUAD_CORNER_XY 344157.738 4089369.559 XY coords. of pri. NW quad corner*
NE_QUAD_CORNER_XY 349723.992 4089269.186 XY coords. of pri. NE quad corner*
SE_QUAD_CORNER_XY 349601.318 4082335.121 XY coords. of pri. SE quad corner*
SW_QUAD_CORNER_XY 344030.516 4082435.430 XY coords. of pri. SW quad corner*
SECONDARY_NW_QUAD_XY 344153.946 4089166.577 XY coords. - sec. NW quad cor.*
SECONDARY_NE_QUAD_XY 349720.336 4089066.202 XY coords. - sec. NE quad cor.*
SECONDARY_SE_QUAD_XY 349597.664 4082132.301 XY coords. - sec. SE quad cor.*
SECONDARY_SW_QUAD_XY 344026.727 4082232.613 XY coords. - sec. SW quad cor.*
RMSE_XY 2.90 doq horiz. accuracy*
IMAGE_SOURCE "BLACK AND WHITE FILM" b&w, cir, natural color, other*
SOURCE_IMAGE_ID "NAPP 6313 233" source image id*
SOURCE_IMAGE_DATE 1993 09 28 source image date as yyyy mm dd*
IMAGE_SOURCE "BLACK AND WHITE FILM" b&w, cir, natural color, other*
SOURCE_IMAGE_ID "NAPP 6313 236" source image id*
SOURCE_IMAGE_DATE 1993 09 28 source image date as yyyy mm dd*
SOURCE_DEM_DATE 1997 01 01 source dem date yyyy mm dd*
AGENCY "WESTERN MAPPING CENTER (WMC)" oversight agency*
PRODUCER "SCIENCE APPLICATIONS INTERNATIONAL" producer/contractor*
PRODUCTION_SYSTEM "GIS/MAGIC" production system*
STANDARD_VERSION 1996 12 version of DOQ standard*
METADATA_DATE 1998 07 02 date created or changed, yyyy mm dd*
DATA_FILE_SIZE 48768720 data set size in bytes*
BYTE_COUNT 6380 header byte count* * * * * * * * * * * * * * * * * * * * * * * * * * * * * * * * * *
END_USGS_HEADER *
