BEGIN_USGS_DOQ_HEADER *
QUADRANGLE_NAME "TEHIPITE DOME" *
QUADRANT SW *
WEST_LONGITUDE -118 52 30.000 *
EAST_LONGITUDE -118 48 45.000 *
NORTH_LATITUDE 36 56 15.000 *
SOUTH_LATITUDE 36 52 30.000 *
PRODUCTION_DATE 2001 10 9 *
RASTER_ORDER LEFT_RIGHT/TOP_BOTTOM *
BAND_ORGANIZATION "SINGLE FILE" *
BAND_CONTENT BLACK&WHITE *
BITS_PER_PIXEL 8 *
SAMPLES_AND_LINES 6383 7643 *
HORIZONTAL_DATUM NAD83 *
HORIZONTAL_COORDINATE_SYSTEM UTM *
COORDINATE_ZONE 11 *
HORIZONTAL_UNITS METERS *
HORIZONTAL_RESOLUTION 1.0 *
SECONDARY_HORIZONTAL_DATUM NAD27 *
XY_ORIGIN 332506.846 4089879.266 *
SECONDARY_XY_ORIGIN 332586.703 4089680.894 *
NATION US *
STATE CA *
NW_QUAD_CORNER_XY 333025.071 4089581.266 *
NE_QUAD_CORNER_XY 338591.431 4089473.585 *
SE_QUAD_CORNER_XY 338459.661 4082539.391 *
SW_QUAD_CORNER_XY 332888.753 4082647.003 *
SECONDARY_NW_QUAD_XY 333021.011 4089378.287 *
SECONDARY_NE_QUAD_XY 338587.506 4089270.604 *
SECONDARY_SE_QUAD_XY 338455.740 4082336.574 *
SECONDARY_SW_QUAD_XY 332884.696 4082444.188 *
RMSE_XY 1.96 *
IMAGE_SOURCE "BLACK AND WHITE FILM" *
SOURCE_IMAGE_ID "NAPP 10559 30" *
SOURCE_IMAGE_DATE 1998 9 12 *
SOURCE_IMAGE_ID "NAPP 10559 31" *
SOURCE_IMAGE_DATE 1998 9 12 *
SOURCE_IMAGE_ID "NAPP 10559 29" *
SOURCE_IMAGE_DATE 1998 9 12 *
SOURCE_IMAGE_ID "NAPP 10556 269" *
SOURCE_IMAGE_DATE 1998 8 26 *
SOURCE_IMAGE_ID "NAPP 10556 270" *
SOURCE_IMAGE_DATE 1998 8 26 *
SOURCE_IMAGE_ID "NAPP 10556 271" *
SOURCE_IMAGE_DATE 1998 8 26 *
SOURCE_IMAGE_ID "NAPP 10559 52" *
SOURCE_IMAGE_DATE 1998 9 12 *
SOURCE_IMAGE_ID "NAPP 10559 53" *
SOURCE_IMAGE_DATE 1998 9 12 *
SOURCE_IMAGE_ID "NAPP 10559 54" *
SOURCE_IMAGE_DATE 1998 9 12 *
SOURCE_DEM_DATE 2000 0 0 *
AGENCY "WESTERN MAPPING CENTER (WMC)" *
PRODUCER "USDA FS GEOSPATIAL SERVICE AND TECHNOLOGY CENTER" *
PRODUCTION_SYSTEM "ORBIT OR_RECTIFY V.5.2" *
STANDARD_VERSION 1996 12 *
METADATA_DATE 2001 10 11 *
DATA_FILE_SIZE 48791652 *
BYTE_COUNT 6383 * * * * * * * * * * * * * * * * * * * * *
END_USGS_HEADER *
