BEGIN_USGS_DOQ_HEADER *
QUADRANGLE_NAME "WOODVILLE" *
QUADRANT NE *
NORTH_LATITUDE 36 07 30.000 *
WEST_LONGITUDE -119 11 15.000 *
SOUTH_LATITUDE 36 03 45.000 *
EAST_LONGITUDE -119 07 30.000 *
PRODUCTION_DATE 1998 11 25 *
RASTER_ORDER LEFT_RIGHT/TOP_BOTTOM *
BAND_ORGANIZATION "SINGLE FILE" *
BAND_CONTENT BLACK&WHITE *
BITS_PER_PIXEL 8 *
SAMPLES_AND_LINES 6510 7710 *
HORIZONTAL_DATUM NAD83 *
HORIZONTAL_COORDINATE_SYSTEM UTM *
COORDINATE_ZONE 11 *
HORIZONTAL_UNITS METERS *
HORIZONTAL_RESOLUTION 1.000 *
SECONDARY_HORIZONTAL_DATUM NAD27 *
XY_ORIGIN 302580.000 4000350.000 *
SECONDARY_XY_ORIGIN 302660.185 4000152.611 *
NATION US *
STATE CA *
NW_QUAD_CORNER_XY 303142.717 4000029.025 *
NE_QUAD_CORNER_XY 308768.016 3999904.158 *
SE_QUAD_CORNER_XY 308616.450 3992970.415 *
SW_QUAD_CORNER_XY 302986.688 3993095.194 *
SECONDARY_NW_QUAD_XY 303138.027 3999828.254 *
SECONDARY_NE_QUAD_XY 308763.459 3999703.384 *
SECONDARY_SE_QUAD_XY 308611.898 3992769.815 *
SECONDARY_SW_QUAD_XY 302982.001 3992894.597 *
RMSE_XY 0.563 *
IMAGE_SOURCE "BLACK AND WHITE FILM" *
SOURCE_IMAGE_ID "NAPP 6927 83" *
SOURCE_IMAGE_DATE 1994 09 04 *
SOURCE_DEM_DATE 1969 00 00 *
AGENCY "WESTERN MAPPING CENTER (WMC)" *
PRODUCER "ANALYTICAL SURVEYS INC." *
PRODUCTION_SYSTEM "ORBIT OR_RECTIFY V.5.2" *
STANDARD_VERSION 1996 12 *
METADATA_DATE 1998 12 01 *
DATA_FILE_SIZE 50198610 *
BYTE_COUNT 6510 * * * * * * * * * * * * * * * * * * * * * * * * * * * * * * * * * * * * * * *
END_USGS_HEADER *
