BEGIN_USGS_DOQ_HEADER *
QUADRANGLE_NAME "WOODVILLE" *
QUADRANT NW *
NORTH_LATITUDE 36 07 30.000 *
WEST_LONGITUDE -119 15 00.000 *
SOUTH_LATITUDE 36 03 45.000 *
EAST_LONGITUDE -119 11 15.000 *
PRODUCTION_DATE 1998 11 25 *
RASTER_ORDER LEFT_RIGHT/TOP_BOTTOM *
BAND_ORGANIZATION "SINGLE FILE" *
BAND_CONTENT BLACK&WHITE *
BITS_PER_PIXEL 8 *
SAMPLES_AND_LINES 6480 7680 *
HORIZONTAL_DATUM NAD83 *
HORIZONTAL_COORDINATE_SYSTEM UTM *
COORDINATE_ZONE 11 *
HORIZONTAL_UNITS METERS *
HORIZONTAL_RESOLUTION 1.000 *
SECONDARY_HORIZONTAL_DATUM NAD27 *
XY_ORIGIN 296970.000 4000470.000 *
SECONDARY_XY_ORIGIN 297050.283 4000272.525 *
NATION US *
STATE CA *
NW_QUAD_CORNER_XY 297517.347 4000157.517 *
NE_QUAD_CORNER_XY 303142.717 4000029.025 *
SE_QUAD_CORNER_XY 302986.688 3993095.194 *
SW_QUAD_CORNER_XY 297356.853 3993223.596 *
SECONDARY_NW_QUAD_XY 297512.522 3999956.749 *
SECONDARY_NE_QUAD_XY 303138.027 3999828.254 *
SECONDARY_SE_QUAD_XY 302982.001 3992894.597 *
SECONDARY_SW_QUAD_XY 297352.032 3993023.002 *
RMSE_XY 0.691 *
IMAGE_SOURCE "BLACK AND WHITE FILM" *
SOURCE_IMAGE_ID "NAPP 6922 16" *
SOURCE_IMAGE_DATE 1994 05 21 *
SOURCE_DEM_DATE 1969 00 00 *
AGENCY "WESTERN MAPPING CENTER (WMC)" *
PRODUCER "ANALYTICAL SURVEYS INC." *
PRODUCTION_SYSTEM "ORBIT OR_RECTIFY V.5.2" *
STANDARD_VERSION 1996 12 *
METADATA_DATE 1998 12 01 *
DATA_FILE_SIZE 49772880 *
BYTE_COUNT 6480 * * * * * * * * * * * * * * * * * * * * * * * * * * * * * * * * * * * * * *
END_USGS_HEADER *
