BEGIN_USGS_DOQ_HEADER *
QUADRANGLE_NAME "TIPTON" *
QUADRANT SE *
NORTH_LATITUDE 36 03 45.000 *
WEST_LONGITUDE -119 18 45.000 *
SOUTH_LATITUDE 36 00 00.000 *
EAST_LONGITUDE -119 15 00.000 *
PRODUCTION_DATE 1998 11 24 *
RASTER_ORDER LEFT_RIGHT/TOP_BOTTOM *
BAND_ORGANIZATION "SINGLE FILE" *
BAND_CONTENT BLACK&WHITE *
BITS_PER_PIXEL 8 *
SAMPLES_AND_LINES 6510 7680 *
HORIZONTAL_DATUM NAD83 *
HORIZONTAL_COORDINATE_SYSTEM UTM *
COORDINATE_ZONE 11 *
HORIZONTAL_UNITS METERS *
HORIZONTAL_RESOLUTION 1.000 *
SECONDARY_HORIZONTAL_DATUM NAD27 *
XY_ORIGIN 291150.000 3993660.000 *
SECONDARY_XY_ORIGIN 291230.454 3993462.608 *
NATION US *
STATE CA *
NW_QUAD_CORNER_XY 291726.943 3993355.620 *
NE_QUAD_CORNER_XY 297356.853 3993223.596 *
SE_QUAD_CORNER_XY 297196.601 3986289.736 *
SW_QUAD_CORNER_XY 291562.233 3986421.666 *
SECONDARY_NW_QUAD_XY 291721.989 3993155.029 *
SECONDARY_NE_QUAD_XY 297352.032 3993023.002 *
SECONDARY_SE_QUAD_XY 297191.784 3986089.317 *
SECONDARY_SW_QUAD_XY 291557.282 3986221.251 *
RMSE_XY 0.658 *
IMAGE_SOURCE "BLACK AND WHITE FILM" *
SOURCE_IMAGE_ID "NAPP 6925 275" *
SOURCE_IMAGE_DATE 1994 06 01 *
SOURCE_DEM_DATE 1969 00 00 *
AGENCY "WESTERN MAPPING CENTER (WMC)" *
PRODUCER "ANALYTICAL SURVEYS INC." *
PRODUCTION_SYSTEM "ORBIT OR_RECTIFY V.5.2" *
STANDARD_VERSION 1996 12 *
METADATA_DATE 1999 01 08 *
DATA_FILE_SIZE 50003310 *
BYTE_COUNT 6510 * * * * * * * * * * * * * * * * * * * * * * * * * * * * * * * * * * * * * * *
END_USGS_HEADER *
