BEGIN_USGS_DOQ_HEADER *
QUADRANGLE_NAME "TAYLOR WEIR" *
QUADRANT NE *
NORTH_LATITUDE 36 07 30.000 *
WEST_LONGITUDE -119 26 15.000 *
SOUTH_LATITUDE 36 03 45.000 *
EAST_LONGITUDE -119 22 30.000 *
PRODUCTION_DATE 1998 11 24 *
RASTER_ORDER LEFT_RIGHT/TOP_BOTTOM *
BAND_ORGANIZATION "SINGLE FILE" *
BAND_CONTENT BLACK&WHITE *
BITS_PER_PIXEL 8 *
SAMPLES_AND_LINES 6510 7710 *
HORIZONTAL_DATUM NAD83 *
HORIZONTAL_COORDINATE_SYSTEM UTM *
COORDINATE_ZONE 11 *
HORIZONTAL_UNITS METERS *
HORIZONTAL_RESOLUTION 1.000 *
SECONDARY_HORIZONTAL_DATUM NAD27 *
XY_ORIGIN 280080.000 4000890.000 *
SECONDARY_XY_ORIGIN 280160.671 4000692.470 *
NATION US *
STATE CA *
NW_QUAD_CORNER_XY 280640.784 4000564.745 *
NE_QUAD_CORNER_XY 286266.382 4000425.377 *
SE_QUAD_CORNER_XY 286096.957 3993491.267 *
SW_QUAD_CORNER_XY 280466.892 3993630.538 *
SECONDARY_NW_QUAD_XY 280635.557 4000363.987 *
SECONDARY_NE_QUAD_XY 286261.289 4000224.615 *
SECONDARY_SE_QUAD_XY 286091.869 3993290.680 *
SECONDARY_SW_QUAD_XY 280461.670 3993429.953 *
RMSE_XY 0.834 *
IMAGE_SOURCE "BLACK AND WHITE FILM" *
SOURCE_IMAGE_ID "NAPP 6918 214" *
SOURCE_IMAGE_DATE 1994 05 10 *
SOURCE_DEM_DATE 1969 00 00 *
AGENCY "WESTERN MAPPING CENTER (WMC)" *
PRODUCER "ANALYTICAL SURVEYS INC." *
PRODUCTION_SYSTEM "ORBIT OR_RECTIFY V.5.2" *
STANDARD_VERSION 1996 12 *
METADATA_DATE 1999 01 08 *
DATA_FILE_SIZE 50198610 *
BYTE_COUNT 6510 * * * * * * * * * * * * * * * * * * * * * * * * * * * * * * * * * * * * * * *
END_USGS_HEADER *
