BEGIN_USGS_DOQ_HEADER *
QUADRANGLE_NAME "CORCORAN" *
QUADRANT SE *
NORTH_LATITUDE 36 03 45.000 *
WEST_LONGITUDE -119 33 45.000 *
SOUTH_LATITUDE 36 00 00.000 *
EAST_LONGITUDE -119 30 00.000 *
PRODUCTION_DATE 1998 11 24 *
RASTER_ORDER LEFT_RIGHT/TOP_BOTTOM *
BAND_ORGANIZATION "SINGLE FILE" *
BAND_CONTENT BLACK&WHITE *
BITS_PER_PIXEL 8 *
SAMPLES_AND_LINES 6540 7710 *
HORIZONTAL_DATUM NAD83 *
HORIZONTAL_COORDINATE_SYSTEM UTM *
COORDINATE_ZONE 11 *
HORIZONTAL_UNITS METERS *
HORIZONTAL_RESOLUTION 1.000 *
SECONDARY_HORIZONTAL_DATUM NAD27 *
XY_ORIGIN 268620.000 3994230.000 *
SECONDARY_XY_ORIGIN 268700.862 3994032.503 *
NATION US *
STATE CA *
NW_QUAD_CORNER_XY 269206.518 3993919.951 *
NE_QUAD_CORNER_XY 274836.747 3993773.432 *
SE_QUAD_CORNER_XY 274658.657 3986839.183 *
SW_QUAD_CORNER_XY 269023.967 3986985.598 *
SECONDARY_NW_QUAD_XY 269201.027 3993719.374 *
SECONDARY_NE_QUAD_XY 274831.390 3993572.851 *
SECONDARY_SE_QUAD_XY 274653.304 3986638.777 *
SECONDARY_SW_QUAD_XY 269018.481 3986785.196 *
RMSE_XY 0.739 *
IMAGE_SOURCE "BLACK AND WHITE FILM" *
SOURCE_IMAGE_ID "NAPP 6918 122" *
SOURCE_IMAGE_DATE 1994 05 10 *
SOURCE_DEM_DATE 1954 00 00 *
AGENCY "WESTERN MAPPING CENTER (WMC)" *
PRODUCER "ANALYTICAL SURVEYS INC." *
PRODUCTION_SYSTEM "ORBIT OR_RECTIFY V.5.2" *
STANDARD_VERSION 1996 12 *
METADATA_DATE 1998 12 01 *
DATA_FILE_SIZE 50429940 *
BYTE_COUNT 6540 * * * * * * * * * * * * * * * * * * * * * * * * * * * * * * * * * * * * * * *
END_USGS_HEADER *
