BEGIN_USGS_DOQ_HEADER *
QUADRANGLE_NAME "EL RICO RANCH" *
QUADRANT NW *
NORTH_LATITUDE 36 07 30.000 *
WEST_LONGITUDE -119 45 00.000 *
SOUTH_LATITUDE 36 03 45.000 *
EAST_LONGITUDE -119 41 15.000 *
PRODUCTION_DATE 1998 11 22 *
RASTER_ORDER LEFT_RIGHT/TOP_BOTTOM *
BAND_ORGANIZATION "SINGLE FILE" *
BAND_CONTENT BLACK&WHITE *
BITS_PER_PIXEL 8 *
SAMPLES_AND_LINES 6540 7740 *
HORIZONTAL_DATUM NAD83 *
HORIZONTAL_COORDINATE_SYSTEM UTM *
COORDINATE_ZONE 11 *
HORIZONTAL_UNITS METERS *
HORIZONTAL_RESOLUTION 1.000 *
SECONDARY_HORIZONTAL_DATUM NAD27 *
XY_ORIGIN 251910.000 4001640.000 *
SECONDARY_XY_ORIGIN 251990.938 4001442.217 *
NATION US *
STATE CA *
NW_QUAD_CORNER_XY 252511.548 4001315.994 *
NE_QUAD_CORNER_XY 258137.568 4001158.488 *
SE_QUAD_CORNER_XY 257945.804 3994223.864 *
SW_QUAD_CORNER_XY 252315.315 3994381.259 *
SECONDARY_NW_QUAD_XY 252505.650 4001115.254 *
SECONDARY_NE_QUAD_XY 258131.804 4000957.744 *
SECONDARY_SE_QUAD_XY 257940.045 3994023.294 *
SECONDARY_SW_QUAD_XY 252309.422 3994180.693 *
RMSE_XY 0.534 *
IMAGE_SOURCE "BLACK AND WHITE FILM" *
SOURCE_IMAGE_ID "NAPP 6916 230" *
SOURCE_IMAGE_DATE 1994 05 02 *
SOURCE_DEM_DATE 1954 00 00 *
AGENCY "WESTERN MAPPING CENTER (WMC)" *
PRODUCER "ANALYTICAL SURVEYS INC." *
PRODUCTION_SYSTEM "ORBIT OR_RECTIFY V.5.2" *
STANDARD_VERSION 1996 12 *
METADATA_DATE 1998 11 24 *
DATA_FILE_SIZE 50626140 *
BYTE_COUNT 6540 * * * * * * * * * * * * * * * * * * * * * * * * * * * * * * * * * * * * * * *
END_USGS_HEADER *
