BEGIN_USGS_DOQ_HEADER *
QUADRANGLE_NAME "STRATFORD SE" *
QUADRANT NW *
NORTH_LATITUDE 36 07 30.000 *
WEST_LONGITUDE -119 52 30.000 *
SOUTH_LATITUDE 36 03 45.000 *
EAST_LONGITUDE -119 48 45.000 *
PRODUCTION_DATE 1998 11 22 *
RASTER_ORDER LEFT_RIGHT/TOP_BOTTOM *
BAND_ORGANIZATION "SINGLE FILE" *
BAND_CONTENT BLACK&WHITE *
BITS_PER_PIXEL 8 *
SAMPLES_AND_LINES 6540 7740 *
HORIZONTAL_DATUM NAD83 *
HORIZONTAL_COORDINATE_SYSTEM UTM *
COORDINATE_ZONE 11 *
HORIZONTAL_UNITS METERS *
HORIZONTAL_RESOLUTION 1.000 *
SECONDARY_HORIZONTAL_DATUM NAD27 *
XY_ORIGIN 240660.000 4001970.000 *
SECONDARY_XY_ORIGIN 240740.953 4001771.996 *
NATION US *
STATE CA *
NW_QUAD_CORNER_XY 241259.235 4001641.894 *
NE_QUAD_CORNER_XY 246885.438 4001477.129 *
SE_QUAD_CORNER_XY 246684.735 3994542.281 *
SW_QUAD_CORNER_XY 241054.061 3994706.930 *
SECONDARY_NW_QUAD_XY 241253.068 4001441.161 *
SECONDARY_NE_QUAD_XY 246879.405 4001276.393 *
SECONDARY_SE_QUAD_XY 246678.707 3994341.719 *
SECONDARY_SW_QUAD_XY 241047.899 3994506.372 *
RMSE_XY 0.676 *
IMAGE_SOURCE "BLACK AND WHITE FILM" *
SOURCE_IMAGE_ID "NAPP 6916 154" *
SOURCE_IMAGE_DATE 1994 05 02 *
SOURCE_DEM_DATE 1954 00 00 *
AGENCY "WESTERN MAPPING CENTER (WMC)" *
PRODUCER "ANALYTICAL SURVEYS INC." *
PRODUCTION_SYSTEM "ORBIT OR_RECTIFY V.5.2" *
STANDARD_VERSION 1996 12 *
METADATA_DATE 1998 11 24 *
DATA_FILE_SIZE 50626140 *
BYTE_COUNT 6540 * * * * * * * * * * * * * * * * * * * * * * * * * * * * * * * * * * * * * * *
END_USGS_HEADER *
