BEGIN_USGS_DOQ_HEADER *
QUADRANGLE_NAME "KETTLEMAN CITY" *
QUADRANT NE *
NORTH_LATITUDE 36 07 30.000 *
WEST_LONGITUDE -119 56 15.000 *
SOUTH_LATITUDE 36 03 45.000 *
EAST_LONGITUDE -119 52 30.000 *
PRODUCTION_DATE 1998 11 22 *
RASTER_ORDER LEFT_RIGHT/TOP_BOTTOM *
BAND_ORGANIZATION "SINGLE FILE" *
BAND_CONTENT BLACK&WHITE *
BITS_PER_PIXEL 8 *
SAMPLES_AND_LINES 6540 7740 *
HORIZONTAL_DATUM NAD83 *
HORIZONTAL_COORDINATE_SYSTEM UTM *
COORDINATE_ZONE 11 *
HORIZONTAL_UNITS METERS *
HORIZONTAL_RESOLUTION 1.000 *
SECONDARY_HORIZONTAL_DATUM NAD27 *
XY_ORIGIN 235020.000 4002120.000 *
SECONDARY_XY_ORIGIN 235100.962 4001921.885 *
NATION US *
STATE CA *
NW_QUAD_CORNER_XY 235632.938 4001810.289 *
NE_QUAD_CORNER_XY 241259.235 4001641.894 *
SE_QUAD_CORNER_XY 241054.061 3994706.930 *
SW_QUAD_CORNER_XY 235423.292 3994875.207 *
SECONDARY_NW_QUAD_XY 235626.637 4001609.560 *
SECONDARY_NE_QUAD_XY 241253.068 4001441.161 *
SECONDARY_SE_QUAD_XY 241047.899 3994506.372 *
SECONDARY_SW_QUAD_XY 235416.996 3994674.653 *
RMSE_XY 1.037 *
IMAGE_SOURCE "BLACK AND WHITE FILM" *
SOURCE_IMAGE_ID "NAPP 6916 115" *
SOURCE_IMAGE_DATE 1994 05 02 *
SOURCE_DEM_DATE 1981 00 00 *
AGENCY "WESTERN MAPPING CENTER (WMC)" *
PRODUCER "ANALYTICAL SURVEYS INC." *
PRODUCTION_SYSTEM "ORBIT OR_RECTIFY V.5.2" *
STANDARD_VERSION 1996 12 *
METADATA_DATE 1998 11 24 *
DATA_FILE_SIZE 50626140 *
BYTE_COUNT 6540 * * * * * * * * * * * * * * * * * * * * * * * * * * * * * * * * * * * * * * *
END_USGS_HEADER *
