BEGIN_USGS_DOQ_HEADER *
QUADRANGLE_NAME "LINDSAY" *
QUADRANT NE *
NORTH_LATITUDE 36 15 00.000 *
WEST_LONGITUDE -119 03 45.000 *
SOUTH_LATITUDE 36 11 15.000 *
EAST_LONGITUDE -119 00 00.000 *
PRODUCTION_DATE 1998 11 30 *
RASTER_ORDER LEFT_RIGHT/TOP_BOTTOM *
BAND_ORGANIZATION "SINGLE FILE" *
BAND_CONTENT BLACK&WHITE *
BITS_PER_PIXEL 8 *
SAMPLES_AND_LINES 6480 7680 *
HORIZONTAL_DATUM NAD83 *
HORIZONTAL_COORDINATE_SYSTEM UTM *
COORDINATE_ZONE 11 *
HORIZONTAL_UNITS METERS *
HORIZONTAL_RESOLUTION 1.000 *
SECONDARY_HORIZONTAL_DATUM NAD27 *
XY_ORIGIN 314130.000 4013970.000 *
SECONDARY_XY_ORIGIN 314209.873 4013772.603 *
NATION US *
STATE CA *
NW_QUAD_CORNER_XY 314688.112 4013650.421 *
NE_QUAD_CORNER_XY 320304.326 4013532.638 *
SE_QUAD_CORNER_XY 320161.258 4006598.935 *
SW_QUAD_CORNER_XY 314540.567 4006716.636 *
SECONDARY_NW_QUAD_XY 314683.682 4013449.298 *
SECONDARY_NE_QUAD_XY 320300.031 4013331.512 *
SECONDARY_SE_QUAD_XY 320156.966 4006397.982 *
SECONDARY_SW_QUAD_XY 314536.141 4006515.686 *
RMSE_XY 1.070 *
IMAGE_SOURCE "BLACK AND WHITE FILM" *
SOURCE_IMAGE_ID "NAPP 6921 279" *
SOURCE_IMAGE_DATE 1994 09 03 *
SOURCE_DEM_DATE 1969 00 00 *
AGENCY "WESTERN MAPPING CENTER (WMC)" *
PRODUCER "ANALYTICAL SURVEYS INC." *
PRODUCTION_SYSTEM "ORBIT OR_RECTIFY V.5.2" *
STANDARD_VERSION 1996 12 *
METADATA_DATE 1998 12 03 *
DATA_FILE_SIZE 49772880 *
BYTE_COUNT 6480 * * * * * * * * * * * * * * * * * * * * * * * * * * * * * * * * * * * * * *
END_USGS_HEADER *
