BEGIN_USGS_DOQ_HEADER *
QUADRANGLE_NAME "LINDSAY" *
QUADRANT SW *
NORTH_LATITUDE 36 11 15.000 *
WEST_LONGITUDE -119 07 30.000 *
SOUTH_LATITUDE 36 07 30.000 *
EAST_LONGITUDE -119 03 45.000 *
PRODUCTION_DATE 1998 11 30 *
RASTER_ORDER LEFT_RIGHT/TOP_BOTTOM *
BAND_ORGANIZATION "SINGLE FILE" *
BAND_CONTENT BLACK&WHITE *
BITS_PER_PIXEL 8 *
SAMPLES_AND_LINES 6480 7710 *
HORIZONTAL_DATUM NAD83 *
HORIZONTAL_COORDINATE_SYSTEM UTM *
COORDINATE_ZONE 11 *
HORIZONTAL_UNITS METERS *
HORIZONTAL_RESOLUTION 1.000 *
SECONDARY_HORIZONTAL_DATUM NAD27 *
XY_ORIGIN 308370.000 4007160.000 *
SECONDARY_XY_ORIGIN 308450.037 4006962.608 *
NATION US *
STATE CA *
NW_QUAD_CORNER_XY 308919.809 4006837.964 *
NE_QUAD_CORNER_XY 314540.567 4006716.636 *
SE_QUAD_CORNER_XY 314393.244 3999782.915 *
SW_QUAD_CORNER_XY 308768.016 3999904.158 *
SECONDARY_NW_QUAD_XY 308915.249 4006637.017 *
SECONDARY_NE_QUAD_XY 314536.141 4006515.686 *
SECONDARY_SE_QUAD_XY 314388.822 3999582.138 *
SECONDARY_SW_QUAD_XY 308763.459 3999703.384 *
RMSE_XY 0.900 *
IMAGE_SOURCE "BLACK AND WHITE FILM" *
SOURCE_IMAGE_ID "NAPP 6927 113" *
SOURCE_IMAGE_DATE 1994 09 04 *
SOURCE_DEM_DATE 1969 00 00 *
AGENCY "WESTERN MAPPING CENTER (WMC)" *
PRODUCER "ANALYTICAL SURVEYS INC." *
PRODUCTION_SYSTEM "ORBIT OR_RECTIFY V.5.2" *
STANDARD_VERSION 1996 12 *
METADATA_DATE 1998 12 03 *
DATA_FILE_SIZE 49967280 *
BYTE_COUNT 6480 * * * * * * * * * * * * * * * * * * * * * * * * * * * * * * * * * * * * * *
END_USGS_HEADER *
