BEGIN_USGS_DOQ_HEADER *
QUADRANGLE_NAME "CAIRNS CORNER" *
QUADRANT SW *
NORTH_LATITUDE 36 11 15.000 *
WEST_LONGITUDE -119 15 00.000 *
SOUTH_LATITUDE 36 07 30.000 *
EAST_LONGITUDE -119 11 15.000 *
PRODUCTION_DATE 1998 11 30 *
RASTER_ORDER LEFT_RIGHT/TOP_BOTTOM *
BAND_ORGANIZATION "SINGLE FILE" *
BAND_CONTENT BLACK&WHITE *
BITS_PER_PIXEL 8 *
SAMPLES_AND_LINES 6480 7680 *
HORIZONTAL_DATUM NAD83 *
HORIZONTAL_COORDINATE_SYSTEM UTM *
COORDINATE_ZONE 11 *
HORIZONTAL_UNITS METERS *
HORIZONTAL_RESOLUTION 1.000 *
SECONDARY_HORIZONTAL_DATUM NAD27 *
XY_ORIGIN 297120.000 4007400.000 *
SECONDARY_XY_ORIGIN 297200.249 4007202.439 *
NATION US *
STATE CA *
NW_QUAD_CORNER_XY 297678.083 4007091.500 *
NE_QUAD_CORNER_XY 303298.982 4006962.918 *
SE_QUAD_CORNER_XY 303142.717 4000029.025 *
SW_QUAD_CORNER_XY 297517.347 4000157.517 *
SECONDARY_NW_QUAD_XY 297673.254 4006890.559 *
SECONDARY_NE_QUAD_XY 303294.287 4006761.974 *
SECONDARY_SE_QUAD_XY 303138.027 3999828.254 *
SECONDARY_SW_QUAD_XY 297512.522 3999956.749 *
RMSE_XY 0.830 *
IMAGE_SOURCE "BLACK AND WHITE FILM" *
SOURCE_IMAGE_ID "NAPP 6922 14" *
SOURCE_IMAGE_DATE 1994 05 21 *
SOURCE_DEM_DATE 1969 00 00 *
AGENCY "WESTERN MAPPING CENTER (WMC)" *
PRODUCER "ANALYTICAL SURVEYS INC." *
PRODUCTION_SYSTEM "ORBIT OR_RECTIFY V.5.2" *
STANDARD_VERSION 1996 12 *
METADATA_DATE 1998 12 03 *
DATA_FILE_SIZE 49772880 *
BYTE_COUNT 6480 * * * * * * * * * * * * * * * * * * * * * * * * * * * * * * * * * * * * * *
END_USGS_HEADER *
