BEGIN_USGS_DOQ_HEADER *
QUADRANGLE_NAME "TULARE" *
QUADRANT NE *
NORTH_LATITUDE 36 15 00.000 *
WEST_LONGITUDE -119 18 45.000 *
SOUTH_LATITUDE 36 11 15.000 *
EAST_LONGITUDE -119 15 00.000 *
PRODUCTION_DATE 1998 11 24 *
RASTER_ORDER LEFT_RIGHT/TOP_BOTTOM *
BAND_ORGANIZATION "SINGLE FILE" *
BAND_CONTENT BLACK&WHITE *
BITS_PER_PIXEL 8 *
SAMPLES_AND_LINES 6480 7710 *
HORIZONTAL_DATUM NAD83 *
HORIZONTAL_COORDINATE_SYSTEM UTM *
COORDINATE_ZONE 11 *
HORIZONTAL_UNITS METERS *
HORIZONTAL_RESOLUTION 1.000 *
SECONDARY_HORIZONTAL_DATUM NAD27 *
XY_ORIGIN 291660.000 4014480.000 *
SECONDARY_XY_ORIGIN 291740.341 4014282.324 *
NATION US *
STATE CA *
NW_QUAD_CORNER_XY 292222.566 4014157.845 *
NE_QUAD_CORNER_XY 297839.060 4014025.544 *
SE_QUAD_CORNER_XY 297678.083 4007091.500 *
SW_QUAD_CORNER_XY 292057.110 4007223.709 *
SECONDARY_NW_QUAD_XY 292217.599 4013956.734 *
SECONDARY_NE_QUAD_XY 297834.227 4013824.430 *
SECONDARY_SE_QUAD_XY 297673.254 4006890.559 *
SECONDARY_SW_QUAD_XY 292052.147 4007022.771 *
RMSE_XY 0.951 *
IMAGE_SOURCE "BLACK AND WHITE FILM" *
SOURCE_IMAGE_ID "NAPP 6927 11" *
SOURCE_IMAGE_DATE 1994 09 04 *
SOURCE_DEM_DATE 1969 00 00 *
AGENCY "WESTERN MAPPING CENTER (WMC)" *
PRODUCER "ANALYTICAL SURVEYS INC." *
PRODUCTION_SYSTEM "ORBIT OR_RECTIFY V.5.2" *
STANDARD_VERSION 1996 12 *
METADATA_DATE 1998 11 25 *
DATA_FILE_SIZE 49967280 *
BYTE_COUNT 6480 * * * * * * * * * * * * * * * * * * * * * * * * * * * * * * * * * * * * * *
END_USGS_HEADER *
