BEGIN_USGS_DOQ_HEADER *
QUADRANGLE_NAME "TULARE" *
QUADRANT NW *
NORTH_LATITUDE 36 15 00.000 *
WEST_LONGITUDE -119 22 30.000 *
SOUTH_LATITUDE 36 11 15.000 *
EAST_LONGITUDE -119 18 45.000 *
PRODUCTION_DATE 1998 11 24 *
RASTER_ORDER LEFT_RIGHT/TOP_BOTTOM *
BAND_ORGANIZATION "SINGLE FILE" *
BAND_CONTENT BLACK&WHITE *
BITS_PER_PIXEL 8 *
SAMPLES_AND_LINES 6480 7680 *
HORIZONTAL_DATUM NAD83 *
HORIZONTAL_COORDINATE_SYSTEM UTM *
COORDINATE_ZONE 11 *
HORIZONTAL_UNITS METERS *
HORIZONTAL_RESOLUTION 1.000 *
SECONDARY_HORIZONTAL_DATUM NAD27 *
XY_ORIGIN 286050.000 4014600.000 *
SECONDARY_XY_ORIGIN 286130.463 4014402.287 *
NATION US *
STATE CA *
NW_QUAD_CORNER_XY 286605.997 4014293.776 *
NE_QUAD_CORNER_XY 292222.566 4014157.845 *
SE_QUAD_CORNER_XY 292057.110 4007223.709 *
SW_QUAD_CORNER_XY 286436.062 4007359.546 *
SECONDARY_NW_QUAD_XY 286600.895 4014092.669 *
SECONDARY_NE_QUAD_XY 292217.599 4013956.734 *
SECONDARY_SE_QUAD_XY 292052.147 4007022.771 *
SECONDARY_SW_QUAD_XY 286430.965 4007158.611 *
RMSE_XY 1.044 *
IMAGE_SOURCE "BLACK AND WHITE FILM" *
SOURCE_IMAGE_ID "NAPP 6925 12" *
SOURCE_IMAGE_DATE 1994 06 01 *
SOURCE_DEM_DATE 1969 00 00 *
AGENCY "WESTERN MAPPING CENTER (WMC)" *
PRODUCER "ANALYTICAL SURVEYS INC." *
PRODUCTION_SYSTEM "ORBIT OR_RECTIFY V.5.2" *
STANDARD_VERSION 1996 12 *
METADATA_DATE 1998 11 25 *
DATA_FILE_SIZE 49772880 *
BYTE_COUNT 6480 * * * * * * * * * * * * * * * * * * * * * * * * * * * * * * * * * * * * * *
END_USGS_HEADER *
