BEGIN_USGS_DOQ_HEADER *
QUADRANGLE_NAME "WAUKENA" *
QUADRANT NE *
NORTH_LATITUDE 36 15 00.000 *
WEST_LONGITUDE -119 33 45.000 *
SOUTH_LATITUDE 36 11 15.000 *
EAST_LONGITUDE -119 30 00.000 *
PRODUCTION_DATE 1998 11 24 *
RASTER_ORDER LEFT_RIGHT/TOP_BOTTOM *
BAND_ORGANIZATION "SINGLE FILE" *
BAND_CONTENT BLACK&WHITE *
BITS_PER_PIXEL 8 *
SAMPLES_AND_LINES 6540 7740 *
HORIZONTAL_DATUM NAD83 *
HORIZONTAL_COORDINATE_SYSTEM UTM *
COORDINATE_ZONE 11 *
HORIZONTAL_UNITS METERS *
HORIZONTAL_RESOLUTION 1.000 *
SECONDARY_HORIZONTAL_DATUM NAD27 *
XY_ORIGIN 269160.000 4015050.000 *
SECONDARY_XY_ORIGIN 269240.751 4014852.155 *
NATION US *
STATE CA *
NW_QUAD_CORNER_XY 269755.821 4014723.358 *
NE_QUAD_CORNER_XY 275372.627 4014576.532 *
SE_QUAD_CORNER_XY 275193.732 4007642.107 *
SW_QUAD_CORNER_XY 269572.445 4007788.831 *
SECONDARY_NW_QUAD_XY 269750.316 4014522.260 *
SECONDARY_NE_QUAD_XY 275367.256 4014375.431 *
SECONDARY_SE_QUAD_XY 275188.366 4007441.178 *
SECONDARY_SW_QUAD_XY 269566.945 4007587.906 *
RMSE_XY 1.009 *
IMAGE_SOURCE "BLACK AND WHITE FILM" *
SOURCE_IMAGE_ID "NAPP 6918 128" *
SOURCE_IMAGE_DATE 1994 05 10 *
SOURCE_DEM_DATE 1954 00 00 *
AGENCY "WESTERN MAPPING CENTER (WMC)" *
PRODUCER "ANALYTICAL SURVEYS INC." *
PRODUCTION_SYSTEM "ORBIT OR_RECTIFY V.5.2" *
STANDARD_VERSION 1996 12 *
METADATA_DATE 1998 11 25 *
DATA_FILE_SIZE 50626140 *
BYTE_COUNT 6540 * * * * * * * * * * * * * * * * * * * * * * * * * * * * * * * * * * * * * * *
END_USGS_HEADER *
