BEGIN_USGS_DOQ_HEADER *
QUADRANGLE_NAME "WAUKENA" *
QUADRANT SE *
NORTH_LATITUDE 36 11 15.000 *
WEST_LONGITUDE -119 33 45.000 *
SOUTH_LATITUDE 36 07 30.000 *
EAST_LONGITUDE -119 30 00.000 *
PRODUCTION_DATE 1998 11 24 *
RASTER_ORDER LEFT_RIGHT/TOP_BOTTOM *
BAND_ORGANIZATION "SINGLE FILE" *
BAND_CONTENT BLACK&WHITE *
BITS_PER_PIXEL 8 *
SAMPLES_AND_LINES 6540 7710 *
HORIZONTAL_DATUM NAD83 *
HORIZONTAL_COORDINATE_SYSTEM UTM *
COORDINATE_ZONE 11 *
HORIZONTAL_UNITS METERS *
HORIZONTAL_RESOLUTION 1.000 *
SECONDARY_HORIZONTAL_DATUM NAD27 *
XY_ORIGIN 268980.000 4008090.000 *
SECONDARY_XY_ORIGIN 269060.788 4007892.271 *
NATION US *
STATE CA *
NW_QUAD_CORNER_XY 269572.445 4007788.831 *
NE_QUAD_CORNER_XY 275193.732 4007642.107 *
SE_QUAD_CORNER_XY 275015.105 4000707.740 *
SW_QUAD_CORNER_XY 269389.344 4000854.362 *
SECONDARY_NW_QUAD_XY 269566.945 4007587.906 *
SECONDARY_NE_QUAD_XY 275188.366 4007441.178 *
SECONDARY_SE_QUAD_XY 275009.744 4000506.985 *
SECONDARY_SW_QUAD_XY 269383.849 4000653.610 *
RMSE_XY 0.954 *
IMAGE_SOURCE "BLACK AND WHITE FILM" *
SOURCE_IMAGE_ID "NAPP 6916 126" *
SOURCE_IMAGE_DATE 1994 05 10 *
SOURCE_DEM_DATE 1954 00 00 *
AGENCY "WESTERN MAPPING CENTER (WMC)" *
PRODUCER "ANALYTICAL SURVEYS INC." *
PRODUCTION_SYSTEM "ORBIT OR_RECTIFY V.5.2" *
STANDARD_VERSION 1996 12 *
METADATA_DATE 1998 11 25 *
DATA_FILE_SIZE 50429940 *
BYTE_COUNT 6540 * * * * * * * * * * * * * * * * * * * * * * * * * * * * * * * * * * * * * * *
END_USGS_HEADER *
