BEGIN_USGS_DOQ_HEADER *
QUADRANGLE_NAME "WAUKENA" *
QUADRANT SW *
NORTH_LATITUDE 36 11 15.000 *
WEST_LONGITUDE -119 37 30.000 *
SOUTH_LATITUDE 36 07 30.000 *
EAST_LONGITUDE -119 33 45.000 *
PRODUCTION_DATE 1998 11 24 *
RASTER_ORDER LEFT_RIGHT/TOP_BOTTOM *
BAND_ORGANIZATION "SINGLE FILE" *
BAND_CONTENT BLACK&WHITE *
BITS_PER_PIXEL 8 *
SAMPLES_AND_LINES 6510 7710 *
HORIZONTAL_DATUM NAD83 *
HORIZONTAL_COORDINATE_SYSTEM UTM *
COORDINATE_ZONE 11 *
HORIZONTAL_UNITS METERS *
HORIZONTAL_RESOLUTION 1.000 *
SECONDARY_HORIZONTAL_DATUM NAD27 *
XY_ORIGIN 263370.000 4008240.000 *
SECONDARY_XY_ORIGIN 263450.833 4008042.216 *
NATION US *
STATE CA *
NW_QUAD_CORNER_XY 263951.075 4007939.185 *
NE_QUAD_CORNER_XY 269572.445 4007788.831 *
SE_QUAD_CORNER_XY 269389.344 4000854.362 *
SW_QUAD_CORNER_XY 263763.499 4001004.611 *
SECONDARY_NW_QUAD_XY 263945.441 4007738.264 *
SECONDARY_NE_QUAD_XY 269566.945 4007587.906 *
SECONDARY_SE_QUAD_XY 269383.849 4000653.610 *
SECONDARY_SW_QUAD_XY 263757.869 4000803.863 *
RMSE_XY 0.898 *
IMAGE_SOURCE "BLACK AND WHITE FILM" *
SOURCE_IMAGE_ID "NAPP 6918 61" *
SOURCE_IMAGE_DATE 1994 05 10 *
SOURCE_DEM_DATE 1954 00 00 *
AGENCY "WESTERN MAPPING CENTER (WMC)" *
PRODUCER "ANALYTICAL SURVEYS INC." *
PRODUCTION_SYSTEM "ORBIT OR_RECTIFY V.5.2" *
STANDARD_VERSION 1996 12 *
METADATA_DATE 1998 11 25 *
DATA_FILE_SIZE 50198610 *
BYTE_COUNT 6510 * * * * * * * * * * * * * * * * * * * * * * * * * * * * * * * * * * * * * * *
END_USGS_HEADER *
