BEGIN_USGS_DOQ_HEADER *
QUADRANGLE_NAME "GUERNSEY" *
QUADRANT NW *
NORTH_LATITUDE 36 15 00.000 *
WEST_LONGITUDE -119 45 00.000 *
SOUTH_LATITUDE 36 11 15.000 *
EAST_LONGITUDE -119 41 15.000 *
PRODUCTION_DATE 1998 11 23 *
RASTER_ORDER LEFT_RIGHT/TOP_BOTTOM *
BAND_ORGANIZATION "SINGLE FILE" *
BAND_CONTENT BLACK&WHITE *
BITS_PER_PIXEL 8 *
SAMPLES_AND_LINES 6540 7710 *
HORIZONTAL_DATUM NAD83 *
HORIZONTAL_COORDINATE_SYSTEM UTM *
COORDINATE_ZONE 11 *
HORIZONTAL_UNITS METERS *
HORIZONTAL_RESOLUTION 1.000 *
SECONDARY_HORIZONTAL_DATUM NAD27 *
XY_ORIGIN 252300.000 4015500.000 *
SECONDARY_XY_ORIGIN 252380.909 4015301.996 *
NATION US *
STATE CA *
NW_QUAD_CORNER_XY 252904.898 4015185.632 *
NE_QUAD_CORNER_XY 258521.959 4015027.907 *
SE_QUAD_CORNER_XY 258329.619 4008093.169 *
SW_QUAD_CORNER_XY 252708.076 4008250.785 *
SECONDARY_NW_QUAD_XY 252898.990 4014984.545 *
SECONDARY_NE_QUAD_XY 258516.185 4014826.817 *
SECONDARY_SE_QUAD_XY 258323.851 4007892.252 *
SECONDARY_SW_QUAD_XY 252702.173 4008049.871 *
RMSE_XY 1.003 *
IMAGE_SOURCE "BLACK AND WHITE FILM" *
SOURCE_IMAGE_ID "NAPP 6916 234" *
SOURCE_IMAGE_DATE 1994 05 02 *
SOURCE_DEM_DATE 1954 00 00 *
AGENCY "WESTERN MAPPING CENTER (WMC)" *
PRODUCER "ANALYTICAL SURVEYS INC." *
PRODUCTION_SYSTEM "ORBIT OR_RECTIFY V.5.2" *
STANDARD_VERSION 1996 12 *
METADATA_DATE 1998 11 24 *
DATA_FILE_SIZE 50429940 *
BYTE_COUNT 6540 * * * * * * * * * * * * * * * * * * * * * * * * * * * * * * * * * * * * * * *
END_USGS_HEADER *
