BEGIN_USGS_DOQ_HEADER *
QUADRANGLE_NAME "GUERNSEY" *
QUADRANT SE *
NORTH_LATITUDE 36 11 15.000 *
WEST_LONGITUDE -119 41 15.000 *
SOUTH_LATITUDE 36 07 30.000 *
EAST_LONGITUDE -119 37 30.000 *
PRODUCTION_DATE 1998 11 23 *
RASTER_ORDER LEFT_RIGHT/TOP_BOTTOM *
BAND_ORGANIZATION "SINGLE FILE" *
BAND_CONTENT BLACK&WHITE *
BITS_PER_PIXEL 8 *
SAMPLES_AND_LINES 6540 7740 *
HORIZONTAL_DATUM NAD83 *
HORIZONTAL_COORDINATE_SYSTEM UTM *
COORDINATE_ZONE 11 *
HORIZONTAL_UNITS METERS *
HORIZONTAL_RESOLUTION 1.000 *
SECONDARY_HORIZONTAL_DATUM NAD27 *
XY_ORIGIN 257730.000 4008420.000 *
SECONDARY_XY_ORIGIN 257810.878 4008222.161 *
NATION US *
STATE CA *
NW_QUAD_CORNER_XY 258329.619 4008093.169 *
NE_QUAD_CORNER_XY 263951.075 4007939.185 *
SE_QUAD_CORNER_XY 263763.499 4001004.611 *
SW_QUAD_CORNER_XY 258137.568 4001158.488 *
SECONDARY_NW_QUAD_XY 258323.851 4007892.252 *
SECONDARY_NE_QUAD_XY 263945.441 4007738.264 *
SECONDARY_SE_QUAD_XY 263757.869 4000803.863 *
SECONDARY_SW_QUAD_XY 258131.804 4000957.744 *
RMSE_XY 1.086 *
IMAGE_SOURCE "BLACK AND WHITE FILM" *
SOURCE_IMAGE_ID "NAPP 6918 38" *
SOURCE_IMAGE_DATE 1994 05 10 *
SOURCE_DEM_DATE 1954 00 00 *
AGENCY "WESTERN MAPPING CENTER (WMC)" *
PRODUCER "ANALYTICAL SURVEYS INC." *
PRODUCTION_SYSTEM "ORBIT OR_RECTIFY V.5.2" *
STANDARD_VERSION 1996 12 *
METADATA_DATE 1998 11 24 *
DATA_FILE_SIZE 50626140 *
BYTE_COUNT 6540 *
*
*
*
*
*
*
*
*
*
*
*
*
*
*
*
*
*
*
*
*
*
*
*
*
*
*
*
*
*
*
*
*
*
*
*
*
*
*
END_USGS_HEADER *